{"text_format":"1","workbook":"xlsx","n_sheets":20,"sheets":["Instructions","Team Data","Scoring Worksheet","Score Entry And Standings","Ref Scoresheet","Module1","Module2","Module3","Module4","Module5","Module6","Module7","Module8","Module9","Module10","Module11","Module12","Module13","Module14","Module15"],"not_rendered":{"charts":0,"images":1,"macros":1,"external_links":0,"defined_names":1,"comments":0,"pivot_tables":0},"unopened":[{"sheet":"Module1","index":5,"reason":"part_missing"},{"sheet":"Module2","index":6,"reason":"part_missing"},{"sheet":"Module3","index":7,"reason":"part_missing"},{"sheet":"Module4","index":8,"reason":"part_missing"},{"sheet":"Module5","index":9,"reason":"part_missing"},{"sheet":"Module6","index":10,"reason":"part_missing"},{"sheet":"Module7","index":11,"reason":"part_missing"},{"sheet":"Module8","index":12,"reason":"part_missing"},{"sheet":"Module9","index":13,"reason":"part_missing"},{"sheet":"Module10","index":14,"reason":"part_missing"},{"sheet":"Module11","index":15,"reason":"part_missing"},{"sheet":"Module12","index":16,"reason":"part_missing"},{"sheet":"Module13","index":17,"reason":"part_missing"},{"sheet":"Module14","index":18,"reason":"part_missing"},{"sheet":"Module15","index":19,"reason":"part_missing"}],"bounds":{"document_bytes":16777216,"sheet_cells":100000,"rows_first":2000,"rows_last":500,"rows_between":2000,"halvings":0,"cell_chars":16384,"cell_head_chars":4096},"cells_cut":0,"cells_raw":0,"read":"whole","date_system":"1900"}

{"sheet":"Instructions","index":0,"n_rows":23,"n_cols":2,"rows_kept":23,"cut":false,"hidden":false,"merged":[]}
[null,"FIRST LEGO League Challenge BIOGLOW"]
[null,"Excel Scorer Instructions"]
[]
[null,"IMPORTANT: Before using, start by making an uncorrupted backup copy of this spreadsheet."]
[null,"Do not run any other spreadsheets while you run this one."]
[null,"Adjust View, Zoom, and Display Settings to arrive at a screen output that projects well."]
[null,"If you have questions, or if you discover problems concerning this spreadsheet, e-mail fllquestions@firstinspires.org."]
[null,"Save frequently during the competition to avoid loss of data."]
[]
[null,"Team Data sheet is used to enter team numbers and names.  It will automatically arrange the matches of 3 rounds on 4 fields (half-tables), in the Score Entry and Standings sheet."]
[null,"In Team Data, enter team numbers and names in the order of arrival on site, and press Enter.  If the number of teams at the tournament is not a multiple of 4, substitute teams should be found or prepared to stand in and play (for no score) as needed. Create placeholder team names and enter zeros for their scores as needed."]
[]
[null,"Scoring Worksheet sheeet is used to to tally the data from each Ref Sheet when it comes to you."]
[null,"Before the tournament, print the Ref Scoresheet (one copy per team per round, plus extras) and give them to the referees on clip boards."]
[null,"When a referee hands in a Scoresheet, click and type as needed on the Scoring Worksheet to match it exactly."]
[null,"When finished, note the score and write it in pen on the Ref Sheet.  This is a hardcopy backup system."]
[null,"Then go to Score Entry And Standings and enter the score for the correct team in the correct round."]
[null,"When using the Scoring Worksheet the next time, clear it first by clicking the RESET button."]
[]
[null,"Score Entry And Standings is the place to enter all scores from the Scoring Worksheet.  You will then use commands to make the spreadsheet break ties and show ranks."]
[null,"For each tally from the Scoring Worksheet, enter the score in the appropriate green box in Score Entry And Standings for the correct team in the correct round.  Be sure to press Enter after every score."]
[null,"The rank of every team is shown based on their best score so far, and NOT based on the score the rank is shown next to."]
[null,"After the scores from ALL rounds have been entered, type Ctrl+A, or click the Final Rankings button.  The spreadsheet will sort data and post the robot performance ranks in column T (scroll to the right, past the black background)."]

{"sheet":"Team Data","index":1,"n_rows":87,"n_cols":5,"rows_kept":87,"cut":false,"hidden":false,"merged":[]}
[]
[]
[]
[]
[]
[null,"REGISTRATION"]
[null,"Team #","Team Name"]
[null,1,"T1",{"$f":"IF(B8=\"\",\"\",E8)","v":1},1]
[null,2,"T2",{"$f":"IF(B9=\"\",\"\",E9)","v":2},2]
[null,3,"T3",3,3]
[null,4,"T4",4,4]
[null,null,null,{"$f":"IF(B12=\"\",\"\",E12)","v":""},5]
[{"$f":"IF(AND(B12<>\"\",B13=\"\"),\"                      Need Substitute Teams\",\"\")","v":""},null,null,{"$f":"IF(B13=\"\",\"\",E13)","v":""},6]
[{"$f":"IF(AND(B13<>\"\",B14=\"\"),\"                      Need Substitute Teams\",\"\")","v":""},null,null,"",7]
[{"$f":"IF(AND(B14<>\"\",B15=\"\"),\"                      Need Substitute Teams\",\"\")","v":""},null,null,"",8]
[null,null,null,"",9]
[{"$f":"IF(AND(B16<>\"\",B17=\"\"),\"                      Need Substitute Teams\",\"\")","v":""},null,null,"",10]
[{"$f":"IF(AND(B17<>\"\",B18=\"\"),\"                      Need Substitute Teams\",\"\")","v":""},null,null,"",11]
[{"$f":"IF(AND(B18<>\"\",B19=\"\"),\"                      Need Substitute Teams\",\"\")","v":""},null,null,"",12]
[null,null,null,"",13]
[{"$f":"IF(AND(B20<>\"\",B21=\"\"),\"                      Need Substitute Teams\",\"\")","v":""},null,null,"",14]
[{"$f":"IF(AND(B21<>\"\",B22=\"\"),\"                      Need Substitute Teams\",\"\")","v":""},null,null,"",15]
[{"$f":"IF(AND(B22<>\"\",B23=\"\"),\"                      Need Substitute Teams\",\"\")","v":""},null,null,"",16]
[null,null,null,"",17]
[{"$f":"IF(AND(B24<>\"\",B25=\"\"),\"                      Need Substitute Teams\",\"\")","v":""},null,null,"",18]
[{"$f":"IF(AND(B25<>\"\",B26=\"\"),\"                      Need Substitute Teams\",\"\")","v":""},null,null,"",19]
[{"$f":"IF(AND(B26<>\"\",B27=\"\"),\"                      Need Substitute Teams\",\"\")","v":""},null,null,"",20]
[null,null,null,"",21]
[{"$f":"IF(AND(B28<>\"\",B29=\"\"),\"                      Need Substitute Teams\",\"\")","v":""},null,null,"",22]
[{"$f":"IF(AND(B29<>\"\",B30=\"\"),\"                      Need Substitute Teams\",\"\")","v":""},null,null,"",23]
[{"$f":"IF(AND(B30<>\"\",B31=\"\"),\"                      Need Substitute Teams\",\"\")","v":""},null,null,"",24]
[null,null,null,"",25]
[{"$f":"IF(AND(B32<>\"\",B33=\"\"),\"                      Need Substitute Teams\",\"\")","v":""},null,null,"",26]
[{"$f":"IF(AND(B33<>\"\",B34=\"\"),\"                      Need Substitute Teams\",\"\")","v":""},null,null,"",27]
[{"$f":"IF(AND(B34<>\"\",B35=\"\"),\"                      Need Substitute Teams\",\"\")","v":""},null,null,"",28]
[null,null,null,"",29]
[{"$f":"IF(AND(B36<>\"\",B37=\"\"),\"                      Need Substitute Teams\",\"\")","v":""},null,null,"",30]
[{"$f":"IF(AND(B37<>\"\",B38=\"\"),\"                      Need Substitute Teams\",\"\")","v":""},null,null,"",31]
[{"$f":"IF(AND(B38<>\"\",B39=\"\"),\"                      Need Substitute Teams\",\"\")","v":""},null,null,"",32]
[null,null,null,"",33]
[{"$f":"IF(AND(B40<>\"\",B41=\"\"),\"                      Need Substitute Teams\",\"\")","v":""},null,null,"",34]
[{"$f":"IF(AND(B41<>\"\",B42=\"\"),\"                      Need Substitute Teams\",\"\")","v":""},null,null,"",35]
[{"$f":"IF(AND(B42<>\"\",B43=\"\"),\"                      Need Substitute Teams\",\"\")","v":""},null,null,"",36]
[null,null,null,"",37]
[{"$f":"IF(AND(B44<>\"\",B45=\"\"),\"                      Need Substitute Teams\",\"\")","v":""},null,null,"",38]
[{"$f":"IF(AND(B45<>\"\",B46=\"\"),\"                      Need Substitute Teams\",\"\")","v":""},null,null,"",39]
[{"$f":"IF(AND(B46<>\"\",B47=\"\"),\"                      Need Substitute Teams\",\"\")","v":""},null,null,"",40]
[null,null,null,"",41]
[{"$f":"IF(AND(B48<>\"\",B49=\"\"),\"                      Need Substitute Teams\",\"\")","v":""},null,null,"",42]
[{"$f":"IF(AND(B49<>\"\",B50=\"\"),\"                      Need Substitute Teams\",\"\")","v":""},null,null,"",43]
[{"$f":"IF(AND(B50<>\"\",B51=\"\"),\"                      Need Substitute Teams\",\"\")","v":""},null,null,"",44]
[null,null,null,"",45]
[{"$f":"IF(AND(B52<>\"\",B53=\"\"),\"                      Need Substitute Teams\",\"\")","v":""},null,null,"",46]
[{"$f":"IF(AND(B53<>\"\",B54=\"\"),\"                      Need Substitute Teams\",\"\")","v":""},null,null,"",47]
[{"$f":"IF(AND(B54<>\"\",B55=\"\"),\"                      Need Substitute Teams\",\"\")","v":""},null,null,"",48]
[null,null,null,"",49]
[{"$f":"IF(AND(B56<>\"\",B57=\"\"),\"                      Need Substitute Teams\",\"\")","v":""},null,null,"",50]
[{"$f":"IF(AND(B57<>\"\",B58=\"\"),\"                      Need Substitute Teams\",\"\")","v":""},null,null,"",51]
[{"$f":"IF(AND(B58<>\"\",B59=\"\"),\"                      Need Substitute Teams\",\"\")","v":""},null,null,"",52]
[null,null,null,"",53]
[{"$f":"IF(AND(B60<>\"\",B61=\"\"),\"                      Need Substitute Teams\",\"\")","v":""},null,null,"",54]
[{"$f":"IF(AND(B61<>\"\",B62=\"\"),\"                      Need Substitute Teams\",\"\")","v":""},null,null,"",55]
[{"$f":"IF(AND(B62<>\"\",B63=\"\"),\"                      Need Substitute Teams\",\"\")","v":""},null,null,"",56]
[null,null,null,"",57]
[{"$f":"IF(AND(B64<>\"\",B65=\"\"),\"                      Need Substitute Teams\",\"\")","v":""},null,null,"",58]
[{"$f":"IF(AND(B65<>\"\",B66=\"\"),\"                      Need Substitute Teams\",\"\")","v":""},null,null,"",59]
[{"$f":"IF(AND(B66<>\"\",B67=\"\"),\"                      Need Substitute Teams\",\"\")","v":""},null,null,"",60]
[null,null,null,"",61]
[{"$f":"IF(AND(B68<>\"\",B69=\"\"),\"                      Need Substitute Teams\",\"\")","v":""},null,null,"",62]
[{"$f":"IF(AND(B69<>\"\",B70=\"\"),\"                      Need Substitute Teams\",\"\")","v":""},null,null,"",63]
[{"$f":"IF(AND(B70<>\"\",B71=\"\"),\"                      Need Substitute Teams\",\"\")","v":""},null,null,"",64]
[null,null,null,"",65]
[{"$f":"IF(AND(B72<>\"\",B73=\"\"),\"                      Need Substitute Teams\",\"\")","v":""},null,null,{"$f":"IF(B73=\"\",\"\",E73)","v":""},66]
[{"$f":"IF(AND(B73<>\"\",B74=\"\"),\"                      Need Substitute Teams\",\"\")","v":""},null,null,"",67]
[{"$f":"IF(AND(B74<>\"\",B75=\"\"),\"                      Need Substitute Teams\",\"\")","v":""},null,null,"",68]
[null,null,null,"",69]
[{"$f":"IF(AND(B76<>\"\",B77=\"\"),\"                      Need Substitute Teams\",\"\")","v":""},null,null,"",70]
[{"$f":"IF(AND(B77<>\"\",B78=\"\"),\"                      Need Substitute Teams\",\"\")","v":""},null,null,"",71]
[{"$f":"IF(AND(B78<>\"\",B79=\"\"),\"                      Need Substitute Teams\",\"\")","v":""},null,null,"",72]
[null,null,null,"",73]
[{"$f":"IF(AND(B80<>\"\",B81=\"\"),\"                      Need Substitute Teams\",\"\")","v":""},null,null,"",74]
[{"$f":"IF(AND(B81<>\"\",B82=\"\"),\"                      Need Substitute Teams\",\"\")","v":""},null,null,"",75]
[{"$f":"IF(AND(B82<>\"\",B83=\"\"),\"                      Need Substitute Teams\",\"\")","v":""},null,null,"",76]
[null,null,null,"",77]
[{"$f":"IF(AND(B84<>\"\",B85=\"\"),\"                      Need Substitute Teams\",\"\")","v":""},null,null,"",78]
[{"$f":"IF(AND(B85<>\"\",B86=\"\"),\"                      Need Substitute Teams\",\"\")","v":""},null,null,"",79]
[{"$f":"IF(AND(B86<>\"\",B87=\"\"),\"                      Need Substitute Teams\",\"\")","v":""},null,null,"",80]

{"sheet":"Scoring Worksheet","index":2,"n_rows":125,"n_cols":8,"rows_kept":125,"cut":false,"hidden":false,"merged":[[29,1,32,1],[1,1,1,5],[13,1,14,1],[15,1,16,1],[18,1,20,1],[27,1,28,1]]}
[]
[null,"BIOGLOW Founders Edition - Robot Game Scoresheet",null,null,null,null,null,"****Form Control Groups are hidden via Macro"]
[null,"M##","Mission","Options"]
[null,"---","(Prematch) The robot and all equipment fit completely in one launch area \nand under the height limit:",null,{"$f":"IF(F4=\"\",\" \",IF(H4=10000,\" \",\"\"))","v":" "},null,null,{"$f":"(F4-1)*20","v":-20}]
[null,"Mission 01","The drone is no longer touching the mat:",null," ",null,null,{"$f":"(F5-1)*20","v":-20}]
[null,null,"Bonus: and the LiDAR map is completely flipped over, with the scan \nmarker at least partly in the survey area:",null," ",null,null,{"$f":"IF(F5>1,(F6-1)*10,0)","v":0}]
[null,"Mission 02","Number of seeds no longer touching the stalk: ",null," ",null,null,{"$f":"(F7-1)*10","v":-10}]
[null,"Mission 03","The research flag is down: ",null," ",null,null,{"$f":"(F8-1)*20","v":-20}]
[null,null,"Bonus: and the rock has been returned to its original starting position:",null," ",null,null,{"$f":"IF(F8>1, (F9-1)*10, 0)","v":0}]
[null,"Mission 04","Number of leaves no longer touching the nest:",null," ",null,null,{"$f":"IF(AND(F11>1,(F10>1)),10,0)","v":0}]
[null,null,"The katydid is completely in the leaf habitat: ",null," "]
[null,null,"Bonus: and the katydid remained in its original position throughout the match:",null," ",null,null,{"$f":"IF(AND(F10>2,F11>1),(F12-1)*20,0)","v":0}]
[null,"Mission 05","The plant root is extended: ",null," ",null,null,{"$f":"(F13-1)*10","v":-10}]
[null,"Mission 06","The ant is touching the nest: ",null," "]
[null,null,"Number of leaf fragments contained within the nest: ",null," ",null,null,{"$f":"IF(F14>1,(F15-1)*10,0)","v":0}]
[null,"Mission 07","The mycelium is completely extended: ",null," ",null,null,{"$f":"(F16-1)*20","v":-20}]
[null,null,"Bonus: Number of connections formed between one team’s extended mycelium \nand the opposing team’s fully extended plant root:",null," ",null,null,{"$f":"IF(F16>1,(F17-1)*10,0)","v":0}]
[null,"Mission 08","The vine is touching the mat:",null," ",null,null,{"$f":"(F18-1)*30","v":-30}]
[null,"Mission 09","The research platform is raised:",null," ",null,null,{"$f":"(F19-1)*10","v":-10}]
[null,null,"The camera trap is deployed: ",null," ",null,null,{"$f":"(F20-1)*10","v":-10}]
[null,null,"The seed is no longer touching the tree:",null," ",null,null,{"$f":"(F21-1)*10","v":-10}]
[null,"Mission 10","The spider habitat is in its original starting position:",null," ",null,null,{"$f":"(F22-1)*10","v":-10}]
[null,null,"The snail habitat is in its original starting position:",null," ",null,null,{"$f":"(F23-1)*10","v":-10}]
[null,"Mission 11","The root cover is down, touching the mat:",null," ",null,null,{"$f":"(F24-1)*20","v":-20}]
[null,"Mission 12","The cane is completely raised, touching the tree: ",null," ",null,null,{"$f":"(F25-1)*20","v":-20}]
[null,null,"The support tie is around the post: ",null,{"$f":"IF(F26=\"\",\" \",IF(H26=10000,\" \",\"\"))","v":" "},null,null,{"$f":"(F26-1)*10","v":-10}]
[null,"Mission 13","Your keystone species is on the restoration platform, and the young trees are raised:",null," ",null,null,{"$f":"(F27-1)*30","v":-30}]
[null,"Mission 14","Number of seeds contained within the replantation station:",null,{"$f":"IF(F28=\"\",\" \",IF(H28=10000,\" \",\"\"))","v":" "},null,null,{"$f":"(F28-1)*5","v":-5}]
[null,null,"Bonus: and touching the mat: ",null," ",null,null,{"$f":"IF(F29>F28,(F28-1)*5,(F29-1)*5)","v":-5}]
[null,"Mission 15","The nesting canopy is raised: ",null,{"$f":"IF(F30=\"\",\" \",IF(H30=10000,\" \",\"\"))","v":" "},null,null,{"$f":"(F30-1)*10","v":-10}]
[null,null,"The garden skylight is completely in:",null," ",null,null,{"$f":"(F31-1)*10","v":-10}]
[null,null,"The compost hatch is completely opened, touching the mat: ",null," ",null,null,{"$f":"(F32-1)*10","v":-10}]
[null,null,"Dock location:",null," ",null,null,{"$f":"IF(AND(F30>1,F33=1),10,IF(AND(F31>1,F33=2),10,IF(AND(F32>1,F33=3),10,0)))","v":0}]
[null,"---","(Precision Tokens) Number of precision tokens remaining:",null," ",null,null,{"$f":"IF(OR(F34=7,F34=6),50,IF(F34=5,35,IF(F34=4,25,IF(F34=3,15,IF(F34=2,10,IF(F34=1,0,IF(F34=\"\",0)))))))","v":0}]
[null,null,null,"Score",{"$f":"COUNTIF(E4:E34,\" \")","v":31},null,{"$f":"IF(E35>0,\"Missing Responses\",IF(SUM(H4:H34)>1000,\"Error\",SUM(H4:H34)))","v":"Missing Responses"}]
[]
[]
[]
[]
[]
[]
[]
[]
[]
[]
[]
[]
[]
[null,null,"^^^Scroll Up^^^"]
[null,null,"^^^Scroll Up^^^"]
[null,null,"^^^Scroll Up^^^"]
[null,null,"^^^Scroll Up^^^"]
[null,null,"^^^Scroll Up^^^"]
[null,null,"^^^Scroll Up^^^"]
[null,null,"^^^Scroll Up^^^"]
[null,null,"^^^Scroll Up^^^"]
[null,null,"^^^Scroll Up^^^"]
[null,null,"^^^Scroll Up^^^"]
[null,null,"^^^Scroll Up^^^"]
[null,null,"^^^Scroll Up^^^"]
[null,null,"^^^Scroll Up^^^"]
[null,null,"^^^Scroll Up^^^"]
[null,null,"^^^Scroll Up^^^"]
[null,null,"^^^Scroll Up^^^"]
[null,null,"^^^Scroll Up^^^"]
[null,null,"^^^Scroll Up^^^"]
[null,null,"^^^Scroll Up^^^"]
[null,null,"^^^Scroll Up^^^"]
[null,null,"^^^Scroll Up^^^"]
[null,null,"^^^Scroll Up^^^"]
[null,null,"^^^Scroll Up^^^"]
[null,null,"^^^Scroll Up^^^"]
[null,null,"^^^Scroll Up^^^"]
[null,null,"^^^Scroll Up^^^"]
[null,null,"^^^Scroll Up^^^"]
[null,null,"^^^Scroll Up^^^"]
[null,null,"^^^Scroll Up^^^"]
[null,null,"^^^Scroll Up^^^"]
[null,null,"^^^Scroll Up^^^"]
[null,null,"^^^Scroll Up^^^"]
[null,null,"^^^Scroll Up^^^"]
[null,null,"^^^Scroll Up^^^"]
[null,null,"^^^Scroll Up^^^"]
[null,null,"^^^Scroll Up^^^"]
[null,null,"^^^Scroll Up^^^"]
[null,null,"^^^Scroll Up^^^"]
[null,null,"^^^Scroll Up^^^"]
[null,null,"^^^Scroll Up^^^"]
[null,null,"^^^Scroll Up^^^"]
[null,null,"^^^Scroll Up^^^"]
[null,null,"^^^Scroll Up^^^"]
[null,null,"^^^Scroll Up^^^"]
[null,null,"^^^Scroll Up^^^"]
[null,null,"^^^Scroll Up^^^"]
[null,null,"^^^Scroll Up^^^"]
[null,null,"^^^Scroll Up^^^"]
[null,null,"^^^Scroll Up^^^"]
[null,null,"^^^Scroll Up^^^"]
[null,null,"^^^Scroll Up^^^"]
[null,null,"^^^Scroll Up^^^"]
[null,null,"^^^Scroll Up^^^"]
[null,null,"^^^Scroll Up^^^"]
[null,null,"^^^Scroll Up^^^"]
[null,null,"^^^Scroll Up^^^"]
[null,null,"^^^Scroll Up^^^"]
[null,null,"^^^Scroll Up^^^"]
[null,null,"^^^Scroll Up^^^"]
[null,null,"^^^Scroll Up^^^"]
[null,null,"^^^Scroll Up^^^"]
[null,null,"^^^Scroll Up^^^"]
[null,null,"^^^Scroll Up^^^"]
[null,null,"^^^Scroll Up^^^"]
[null,null,"^^^Scroll Up^^^"]
[null,null,"^^^Scroll Up^^^"]
[null,null,"^^^Scroll Up^^^"]
[null,null,"^^^Scroll Up^^^"]
[null,null,"^^^Scroll Up^^^"]
[null,null,"^^^Scroll Up^^^"]
[null,null,"^^^Scroll Up^^^"]
[null,null,"^^^Scroll Up^^^"]
[null,null,"^^^Scroll Up^^^"]
[null,null,"^^^Scroll Up^^^"]
[null,null,"^^^Scroll Up^^^"]
[null,null,"^^^Scroll Up^^^"]
[null,null,"^^^Scroll Up^^^"]

{"sheet":"Score Entry And Standings","index":3,"n_rows":386,"n_cols":51,"rows_kept":386,"cut":false,"hidden":false,"merged":[[2,1,2,3],[2,4,2,6],[2,7,2,9],[2,10,2,12],[1,1,1,12],[26,1,26,12],[52,1,52,3],[52,4,52,6],[52,7,52,9],[52,10,52,12],[27,1,27,3],[27,4,27,6],[27,7,27,9],[27,10,27,12],[51,1,51,12],[4,17,4,18],[0,17,0,23],[1,17,1,23],[3,17,3,18],[2,17,2,23],[3,20,3,22]]}
[null,null,null,null,null,null,null,null,null,null,null,null,null,null,null,null,null,"control a…sorts R,S by Rasc then Sdec",null,null,null,null,null,null,null,null,null,null,null,null,null,null,null,null,null,null,null,null,null,null,null,null,null,null,null,null,null,null,null,"sortable version of"]
[null,"Round 1",null,null,null,null,null,null,null,null,null,null,null,null,null,null,null,"then sorts T,U,V,W  by Udec then Vdec then Wdec",null,null,null,null,null,null,null,"data from 16",null,null,null,null,null,"data from 8",null,null,null,null,"data from 4",null,null,null,null,"data from 2",null,null,null,"not sortable",null,null,null,"list to the left"]
[null,"Field A",null,null,"Field B",null,null,"Field C",null,null,"Field D",null,null,null,null,null,null,null,null,null,null,null,null,null,null,"control b…sorts Z,AA by AAdec",null,null,null,null,null,"control w…sorts AF,AG by AGdec",null,null,null,null,"control d…sorts AF,AG by AGdec",null,null,null,null,"control e…sorts AO,AP by APdec"]
[null,"Team","Score","Rank","Team","Score","Rank","Team","Score","Rank","Team","Score","Rank",null,null,null,null,null,null,null,"type ctrl+a first!",null,null,null,null,"takes sweet 16, returns great 8",null,null,null,null,null,"takes great 8, returns final 4",null,null,null,null,"takes final 4, returns rumble",null,null,null,null,"takes rumble, returns winners",null,null,null,null,"for rank",null,null,"for Director's"]
[null,{"$f":"IF('Team Data'!B8=\"\",\"\",'Team Data'!B8)","v":1},null,{"$f":"IF($C$5=\"\",\"\",RANK(AU6,($AU$6:$AU$85),0))","v":""},{"$f":"IF('Team Data'!B9=\"\",\"\",'Team Data'!B9)","v":2},null,{"$f":"IF($F$5=\"\",\"\",RANK(AU26,($AU$6:$AU$85),0))","v":""},{"$f":"IF('Team Data'!B10=\"\",\"\",'Team Data'!B10)","v":3},null,{"$f":"IF($I$5=\"\",\"\",RANK(AU46,($AU$6:$AU$85),0))","v":""},{"$f":"IF('Team Data'!B11=\"\",\"\",'Team Data'!B11)","v":4},null,{"$f":"IF($L$5=\"\",\"\",RANK(AU66,($AU$6:$AU$85),0))","v":""},null,null,null,"RANK","(raw data)",null,"TEAM","highest","2nd best","lowest",null,null,"team","score",null,null,null,null,"team","score",null,null,null,"team","score",null,null,null,"team","score",null,null,"team","max",null,"team","max","count"]
[null,{"$f":"IF('Team Data'!B12=\"\",\"\",'Team Data'!B12)","v":""},null,{"$f":"IF($C$6=\"\",\"\",RANK(AU7,($AU$6:$AU$85),0))","v":""},{"$f":"IF('Team Data'!B13=\"\",\"\",'Team Data'!B13)","v":""},null,{"$f":"IF($F$6=\"\",\"\",RANK(AU27,($AU$6:$AU$85),0))","v":""},{"$f":"IF('Team Data'!B14=\"\",\"\",'Team Data'!B14)","v":""},null,{"$f":"IF($I$6=\"\",\"\",RANK(AU47,($AU$6:$AU$85),0))","v":""},{"$f":"IF('Team Data'!B15=\"\",\"\",'Team Data'!B15)","v":""},null,{"$f":"IF($L$6=\"\",\"\",RANK(AU67,($AU$6:$AU$85),0))","v":""},null,null,null,"1st",{"$f":"$H$55","v":1},{"$f":"$I$55","v":0},{"$f":"$R$12","v":3},{"$f":"$S$12","v":0},{"$f":"$S$13","v":0},{"$f":"$S$14","v":0},null,null,{"$f":"$E$108","v":0},{"$f":"$F$108","v":0},null,null,null,null,{"$f":"$E$117","v":0},{"$f":"$F$117","v":0},null,null,null,{"$f":"$B$128","v":0},{"$f":"$C$128","v":0},null,null,null,{"$f":"$H$135","v":0},{"$f":"$I$135","v":0},null,null,{"$f":"B5","v":1},{"$f":"MAX(C5,F30,I55)","v":0},null,{"$f":"AT$6","v":1},{"$f":"AU$6","v":0},{"$f":"IF(AW6=\"\",\"\",1)","v":1}]
[null,{"$f":"IF('Team Data'!B16=\"\",\"\",'Team Data'!B16)","v":""},null,{"$f":"IF($C$7=\"\",\"\",RANK(AU8,($AU$6:$AU$85),0))","v":""},{"$f":"IF('Team Data'!B17=\"\",\"\",'Team Data'!B17)","v":""},null,{"$f":"IF($F$7=\"\",\"\",RANK(AU28,($AU$6:$AU$85),0))","v":""},{"$f":"IF('Team Data'!B18=\"\",\"\",'Team Data'!B18)","v":""},null,{"$f":"IF($I$7=\"\",\"\",RANK(AU48,($AU$6:$AU$85),0))","v":""},{"$f":"IF('Team Data'!B19=\"\",\"\",'Team Data'!B19)","v":""},null,{"$f":"IF($L$7=\"\",\"\",RANK(AU68,($AU$6:$AU$85),0))","v":""},null,null,null,"2nd",{"$f":"$E$30","v":1},{"$f":"$F$30","v":0},{"$f":"$R$6","v":1},{"$f":"$S$6","v":0},{"$f":"$S$7","v":0},{"$f":"$S$8","v":0},null,null,{"$f":"$H$108","v":0},{"$f":"$I$108","v":0},null,null,null,null,{"$f":"$B$119","v":0},{"$f":"$C$119","v":0},null,null,null,{"$f":"$E$128","v":0},{"$f":"$F$128","v":0},null,null,null,{"$f":"$E$135","v":0},{"$f":"$F$135","v":0},null,null,"",0,null,{"$f":"AT$26","v":2},{"$f":"AU$26","v":0},{"$f":"IF(AW7=\"\",\"\",1)","v":1}]
[null,{"$f":"IF('Team Data'!B20=\"\",\"\",'Team Data'!B20)","v":""},null,{"$f":"IF($C$8=\"\",\"\",RANK(AU9,($AU$6:$AU$85),0))","v":""},{"$f":"IF('Team Data'!B21=\"\",\"\",'Team Data'!B21)","v":""},null,{"$f":"IF($F$8=\"\",\"\",RANK(AU29,($AU$6:$AU$85),0))","v":""},{"$f":"IF('Team Data'!B22=\"\",\"\",'Team Data'!B22)","v":""},null,{"$f":"IF($I$8=\"\",\"\",RANK(AU49,($AU$6:$AU$85),0))","v":""},{"$f":"IF('Team Data'!B23=\"\",\"\",'Team Data'!B23)","v":""},null,{"$f":"IF($L$8=\"\",\"\",RANK(AU69,($AU$6:$AU$85),0))","v":""},null,null,null,"3rd",{"$f":"$B$5","v":1},{"$f":"$C$5","v":0},{"$f":"$R$15","v":4},{"$f":"$S$15","v":0},{"$f":"$S$16","v":0},{"$f":"$S$17","v":0},null,null,{"$f":"$E$110","v":0},{"$f":"$F$110","v":0},null,null,null,null,{"$f":"$B$117","v":0},{"$f":"$C$117","v":0},null,null,null,{"$f":"$K$127","v":0},{"$f":"$L$127","v":0},null,null,null,{"$f":"$E$136","v":0},{"$f":"$F$136","v":0},null,null,"",0,null,{"$f":"AT$46","v":3},{"$f":"AU$46","v":0},1]
[null,{"$f":"IF('Team Data'!B24=\"\",\"\",'Team Data'!B24)","v":""},null,{"$f":"IF($C$9=\"\",\"\",RANK(AU10,($AU$6:$AU$85),0))","v":""},{"$f":"IF('Team Data'!B25=\"\",\"\",'Team Data'!B25)","v":""},null,{"$f":"IF($F$9=\"\",\"\",RANK(AU30,($AU$6:$AU$85),0))","v":""},{"$f":"IF('Team Data'!B26=\"\",\"\",'Team Data'!B26)","v":""},null,{"$f":"IF($I$9=\"\",\"\",RANK(AU50,($AU$6:$AU$85),0))","v":""},{"$f":"IF('Team Data'!B27=\"\",\"\",'Team Data'!B27)","v":""},null,{"$f":"IF($L$9=\"\",\"\",RANK(AU70,($AU$6:$AU$85),0))","v":""},null,null,null,"4th",{"$f":"$B$55","v":2},{"$f":"$C$55","v":0},{"$f":"$R$9","v":2},{"$f":"$S$9","v":0},{"$f":"$S$10","v":0},{"$f":"$S$11","v":0},null,null,{"$f":"$K$108","v":0},{"$f":"$L$108","v":0},null,null,null,null,{"$f":"$K$118","v":0},{"$f":"$L$118","v":0},null,null,null,{"$f":"$B$127","v":0},{"$f":"$C$127","v":0},null,null,null,{"$f":"$H$136","v":0},{"$f":"$I$136","v":0},null,null,"",0,null,{"$f":"AT$66","v":4},{"$f":"AU$66","v":0},1]
[null,{"$f":"IF('Team Data'!B28=\"\",\"\",'Team Data'!B28)","v":""},null,{"$f":"IF($C$10=\"\",\"\",RANK(AU11,($AU$6:$AU$85),0))","v":""},{"$f":"IF('Team Data'!B29=\"\",\"\",'Team Data'!B29)","v":""},null,{"$f":"IF($F$10=\"\",\"\",RANK(AU31,($AU$6:$AU$85),0))","v":""},{"$f":"IF('Team Data'!B30=\"\",\"\",'Team Data'!B30)","v":""},null,{"$f":"IF($I$10=\"\",\"\",RANK(AU51,($AU$6:$AU$85),0))","v":""},{"$f":"IF('Team Data'!B31=\"\",\"\",'Team Data'!B31)","v":""},null,{"$f":"IF($L$10=\"\",\"\",RANK(AU71,($AU$6:$AU$85),0))","v":""},null,null,null,"5th",{"$f":"$H$30","v":2},{"$f":"$I$30","v":0},{"$f":"$R$27","v":""},{"$f":"$S$27","v":0},{"$f":"$S$28","v":0},{"$f":"$S$29","v":0},null,null,{"$f":"$K$107","v":0},{"$f":"$L$107","v":0},null,null,null,null,{"$f":"$H$118","v":0},{"$f":"$I$118","v":0},null,null,null,{"$f":"$E$127","v":0},{"$f":"$F$127","v":0},null,null,null,null,null,null,null,"",0,null,{"$f":"AT$7","v":""},{"$f":"AU$7","v":0},""]
[null,{"$f":"IF('Team Data'!B32=\"\",\"\",'Team Data'!B32)","v":""},null,{"$f":"IF($C$11=\"\",\"\",RANK(AU12,($AU$6:$AU$85),0))","v":""},{"$f":"IF('Team Data'!B33=\"\",\"\",'Team Data'!B33)","v":""},null,{"$f":"IF($F$11=\"\",\"\",RANK(AU32,($AU$6:$AU$85),0))","v":""},{"$f":"IF('Team Data'!B34=\"\",\"\",'Team Data'!B34)","v":""},null,{"$f":"IF($I$11=\"\",\"\",RANK(AU52,($AU$6:$AU$85),0))","v":""},{"$f":"IF('Team Data'!B35=\"\",\"\",'Team Data'!B35)","v":""},null,{"$f":"IF($L$11=\"\",\"\",RANK(AU72,($AU$6:$AU$85),0))","v":""},null,null,null,"6th",{"$f":"$E$5","v":2},{"$f":"$F$5","v":0},{"$f":"$R$24","v":""},{"$f":"$S$24","v":0},{"$f":"$S$25","v":0},{"$f":"$S$26","v":0},null,null,{"$f":"$E$107","v":0},{"$f":"$F$107","v":0},null,null,null,null,{"$f":"$E$118","v":0},{"$f":"$F$118","v":0},null,null,null,{"$f":"$H$127","v":0},{"$f":"$I$127","v":0},null,null,null,null,null,null,null,"",0,null,{"$f":"AT$27","v":""},{"$f":"AU$27","v":0},""]
[null,{"$f":"IF('Team Data'!B36=\"\",\"\",'Team Data'!B36)","v":""},null,{"$f":"IF($C$12=\"\",\"\",RANK(AU13,($AU$6:$AU$85),0))","v":""},{"$f":"IF('Team Data'!B37=\"\",\"\",'Team Data'!B37)","v":""},null,{"$f":"IF($F$12=\"\",\"\",RANK(AU33,($AU$6:$AU$85),0))","v":""},{"$f":"IF('Team Data'!B38=\"\",\"\",'Team Data'!B38)","v":""},null,{"$f":"IF($I$12=\"\",\"\",RANK(AU53,($AU$6:$AU$85),0))","v":""},{"$f":"IF('Team Data'!B39=\"\",\"\",'Team Data'!B39)","v":""},null,{"$f":"IF($L$12=\"\",\"\",RANK(AU73,($AU$6:$AU$85),0))","v":""},null,null,null,"7th",{"$f":"$K$55","v":3},{"$f":"$L$55","v":0},{"$f":"$R$21","v":""},{"$f":"$S$21","v":0},{"$f":"$S$22","v":0},{"$f":"$S$23","v":0},null,null,{"$f":"$B$108","v":0},{"$f":"$C$108","v":0},null,null,null,null,{"$f":"$H$117","v":0},{"$f":"$I$117","v":0},null,null,null,{"$f":"$K$128","v":0},{"$f":"$L$128","v":0},null,null,null,null,null,null,null,"",0,null,{"$f":"AT$47","v":""},{"$f":"AU$47","v":0},""]
[null,{"$f":"IF('Team Data'!B40=\"\",\"\",'Team Data'!B40)","v":""},null,{"$f":"IF($C$13=\"\",\"\",RANK(AU14,($AU$6:$AU$85),0))","v":""},{"$f":"IF('Team Data'!B41=\"\",\"\",'Team Data'!B41)","v":""},null,{"$f":"IF($F$13=\"\",\"\",RANK(AU34,($AU$6:$AU$85),0))","v":""},{"$f":"IF('Team Data'!B42=\"\",\"\",'Team Data'!B42)","v":""},null,{"$f":"IF($I$13=\"\",\"\",RANK(AU54,($AU$6:$AU$85),0))","v":""},{"$f":"IF('Team Data'!B43=\"\",\"\",'Team Data'!B43)","v":""},null,{"$f":"IF($L$13=\"\",\"\",RANK(AU74,($AU$6:$AU$85),0))","v":""},null,null,null,"8th",{"$f":"$K$30","v":3},{"$f":"$L$30","v":0},{"$f":"$R$18","v":""},{"$f":"$S$18","v":0},{"$f":"$S$19","v":0},{"$f":"$S$20","v":0},null,null,{"$f":"$B$107","v":0},{"$f":"$C$107","v":0},null,null,null,null,{"$f":"B$118","v":0},{"$f":"$C$118","v":0},null,null,null,{"$f":"$H$128","v":0},{"$f":"$I$128","v":0},null,null,null,null,null,null,null,"",0,null,{"$f":"AT$67","v":""},{"$f":"AU$67","v":0},""]
[null,{"$f":"IF('Team Data'!B44=\"\",\"\",'Team Data'!B44)","v":""},null,{"$f":"IF($C$14=\"\",\"\",RANK(AU15,($AU$6:$AU$85),0))","v":""},{"$f":"IF('Team Data'!B45=\"\",\"\",'Team Data'!B45)","v":""},null,{"$f":"IF($F$14=\"\",\"\",RANK(AU35,($AU$6:$AU$85),0))","v":""},{"$f":"IF('Team Data'!B46=\"\",\"\",'Team Data'!B46)","v":""},null,{"$f":"IF($I$14=\"\",\"\",RANK(AU55,($AU$6:$AU$85),0))","v":""},{"$f":"IF('Team Data'!B47=\"\",\"\",'Team Data'!B47)","v":""},null,{"$f":"IF($L$14=\"\",\"\",RANK(AU75,($AU$6:$AU$85),0))","v":""},null,null,null,"9th",{"$f":"$H$5","v":3},{"$f":"$I$5","v":0},{"$f":"$R$36","v":""},{"$f":"$S$36","v":0},{"$f":"$S$37","v":0},{"$f":"$S$38","v":0},null,null,{"$f":"$B$109","v":0},{"$f":"$C$109","v":0},null,null,null,null,{"$f":"$K$117","v":0},{"$f":"$L$117","v":0},null,null,null,null,null,null,null,null,null,null,null,null,"",0,null,{"$f":"AT$8","v":""},{"$f":"AU$8","v":0},""]
[null,{"$f":"IF('Team Data'!B48=\"\",\"\",'Team Data'!B48)","v":""},null,{"$f":"IF($C$15=\"\",\"\",RANK(AU16,($AU$6:$AU$85),0))","v":""},{"$f":"IF('Team Data'!B49=\"\",\"\",'Team Data'!B49)","v":""},null,{"$f":"IF($F$15=\"\",\"\",RANK(AU36,($AU$6:$AU$85),0))","v":""},{"$f":"IF('Team Data'!B50=\"\",\"\",'Team Data'!B50)","v":""},null,{"$f":"IF($I$15=\"\",\"\",RANK(AU56,($AU$6:$AU$85),0))","v":""},{"$f":"IF('Team Data'!B51=\"\",\"\",'Team Data'!B51)","v":""},null,{"$f":"IF($L$15=\"\",\"\",RANK(AU76,($AU$6:$AU$85),0))","v":""},null,null,null,"10th",{"$f":"$E$55","v":4},{"$f":"$F$55","v":0},{"$f":"$R$30","v":""},{"$f":"$S$30","v":0},{"$f":"$S$31","v":0},{"$f":"$S$32","v":0},null,null,{"$f":"$H$107","v":0},{"$f":"$I$107","v":0},null,null,null,null,{"$f":"$H$119","v":0},{"$f":"$I$119","v":0},null,null,null,null,null,null,null,null,null,null,null,null,"",0,null,{"$f":"AT$28","v":""},{"$f":"AU$28","v":0},""]
[null,{"$f":"IF('Team Data'!B52=\"\",\"\",'Team Data'!B52)","v":""},null,{"$f":"IF($C$16=\"\",\"\",RANK(AU17,($AU$6:$AU$85),0))","v":""},{"$f":"IF('Team Data'!B53=\"\",\"\",'Team Data'!B53)","v":""},null,{"$f":"IF($F$16=\"\",\"\",RANK(AU37,($AU$6:$AU$85),0))","v":""},{"$f":"IF('Team Data'!B54=\"\",\"\",'Team Data'!B54)","v":""},null,{"$f":"IF($I$16=\"\",\"\",RANK(AU57,($AU$6:$AU$85),0))","v":""},{"$f":"IF('Team Data'!B55=\"\",\"\",'Team Data'!B55)","v":""},null,{"$f":"IF($L$16=\"\",\"\",RANK(AU77,($AU$6:$AU$85),0))","v":""},null,null,null,"11th",{"$f":"$B$30","v":4},{"$f":"$C$30","v":0},{"$f":"$R$33","v":""},{"$f":"$S$33","v":0},{"$f":"$S$34","v":0},{"$f":"$S$35","v":0},null,null,{"$f":"$E$109","v":0},{"$f":"$F$109","v":0},null,null,null,null,{"$f":"$E$119","v":0},{"$f":"$F$119","v":0},null,null,null,null,null,null,null,null,null,null,null,null,"",0,null,{"$f":"AT$48","v":""},{"$f":"AU$48","v":0},""]
[null,{"$f":"IF('Team Data'!B56=\"\",\"\",'Team Data'!B56)","v":""},null,{"$f":"IF($C$17=\"\",\"\",RANK(AU18,($AU$6:$AU$85),0))","v":""},{"$f":"IF('Team Data'!B57=\"\",\"\",'Team Data'!B57)","v":""},null,{"$f":"IF($F$17=\"\",\"\",RANK(AU38,($AU$6:$AU$85),0))","v":""},{"$f":"IF('Team Data'!B58=\"\",\"\",'Team Data'!B58)","v":""},null,{"$f":"IF($I$17=\"\",\"\",RANK(AU58,($AU$6:$AU$85),0))","v":""},{"$f":"IF('Team Data'!B59=\"\",\"\",'Team Data'!B59)","v":""},null,{"$f":"IF($L$17=\"\",\"\",RANK(AU78,($AU$6:$AU$85),0))","v":""},null,null,null,"12th",{"$f":"$K$5","v":4},{"$f":"$L$5","v":0},{"$f":"$R$39","v":""},{"$f":"$S$39","v":0},{"$f":"$S$40","v":0},{"$f":"$S$41","v":0},null,null,{"$f":"$K$109","v":0},{"$f":"$L$109","v":0},null,null,null,null,{"$f":"$E$120","v":0},{"$f":"$F$120","v":0},null,null,null,null,null,null,null,null,null,null,null,null,"",0,null,{"$f":"AT$68","v":""},{"$f":"AU$68","v":0},""]
[null,{"$f":"IF('Team Data'!B60=\"\",\"\",'Team Data'!B60)","v":""},null,{"$f":"IF($C$18=\"\",\"\",RANK(AU19,($AU$6:$AU$85),0))","v":""},{"$f":"IF('Team Data'!B61=\"\",\"\",'Team Data'!B61)","v":""},null,{"$f":"IF($F$18=\"\",\"\",RANK(AU39,($AU$6:$AU$85),0))","v":""},{"$f":"IF('Team Data'!B62=\"\",\"\",'Team Data'!B62)","v":""},null,{"$f":"IF($I$18=\"\",\"\",RANK(AU59,($AU$6:$AU$85),0))","v":""},{"$f":"IF('Team Data'!B63=\"\",\"\",'Team Data'!B63)","v":""},null,{"$f":"IF($L$18=\"\",\"\",RANK(AU79,($AU$6:$AU$85),0))","v":""},null,null,null,"13th",{"$f":"$B$6","v":""},{"$f":"$C$6","v":0},{"$f":"$R$204","v":""},{"$f":"$S$204","v":0},{"$f":"$S$205","v":0},{"$f":"$S$206","v":0},null,null,{"$f":"$K$110","v":0},{"$f":"$L$110","v":0},null,null,null,null,{"$f":"$H$120","v":0},{"$f":"$I$120","v":0},null,null,null,null,null,null,null,null,null,null,null,null,"",0,null,{"$f":"AT$9","v":""},{"$f":"AU$9","v":0},""]
[null,{"$f":"IF('Team Data'!B64=\"\",\"\",'Team Data'!B64)","v":""},null,{"$f":"IF($C$19=\"\",\"\",RANK(AU20,($AU$6:$AU$85),0))","v":""},{"$f":"IF('Team Data'!B65=\"\",\"\",'Team Data'!B65)","v":""},null,{"$f":"IF($F$19=\"\",\"\",RANK(AU40,($AU$6:$AU$85),0))","v":""},{"$f":"IF('Team Data'!B66=\"\",\"\",'Team Data'!B66)","v":""},null,{"$f":"IF($I$19=\"\",\"\",RANK(AU60,($AU$6:$AU$85),0))","v":""},{"$f":"IF('Team Data'!B67=\"\",\"\",'Team Data'!B67)","v":""},null,{"$f":"IF($L$19=\"\",\"\",RANK(AU80,($AU$6:$AU$85),0))","v":""},null,null,null,"14th",{"$f":"$H$56","v":""},{"$f":"$I$56","v":0},{"$f":"$R$192","v":""},{"$f":"$S$192","v":0},{"$f":"$S$193","v":0},{"$f":"$S$194","v":0},null,null,{"$f":"$B$110","v":0},{"$f":"$C$110","v":0},null,null,null,null,{"$f":"$K$119","v":0},{"$f":"$L$119","v":0},null,null,null,null,null,null,null,null,null,null,null,null,"",0,null,{"$f":"AT$29","v":""},{"$f":"AU$29","v":0},""]
[null,{"$f":"IF('Team Data'!B68=\"\",\"\",'Team Data'!B68)","v":""},null,{"$f":"IF($C$20=\"\",\"\",RANK(AU21,($AU$6:$AU$85),0))","v":""},{"$f":"IF('Team Data'!B69=\"\",\"\",'Team Data'!B69)","v":""},null,{"$f":"IF($F$20=\"\",\"\",RANK(AU41,($AU$6:$AU$85),0))","v":""},{"$f":"IF('Team Data'!B70=\"\",\"\",'Team Data'!B70)","v":""},null,{"$f":"IF($I$20=\"\",\"\",RANK(AU61,($AU$6:$AU$85),0))","v":""},{"$f":"IF('Team Data'!B71=\"\",\"\",'Team Data'!B71)","v":""},null,{"$f":"IF($L$20=\"\",\"\",RANK(AU81,($AU$6:$AU$85),0))","v":""},null,null,null,"15th",{"$f":"$E$31","v":""},{"$f":"$F$31","v":0},{"$f":"$R$162","v":""},{"$f":"$S$162","v":0},{"$f":"$S$163","v":0},{"$f":"$S$164","v":0},null,null,{"$f":"$H$109","v":0},{"$f":"$I$109","v":0},null,null,null,null,{"$f":"$B$120","v":0},{"$f":"$C$120","v":0},null,null,null,null,null,null,null,null,null,null,null,null,"",0,null,{"$f":"AT$49","v":""},{"$f":"AU$49","v":0},""]
[null,{"$f":"IF('Team Data'!B72=\"\",\"\",'Team Data'!B72)","v":""},null,{"$f":"IF($C$21=\"\",\"\",RANK(AU22,($AU$6:$AU$85),0))","v":""},{"$f":"IF('Team Data'!B73=\"\",\"\",'Team Data'!B73)","v":""},null,{"$f":"IF($F$21=\"\",\"\",RANK(AU42,($AU$6:$AU$85),0))","v":""},{"$f":"IF('Team Data'!B74=\"\",\"\",'Team Data'!B74)","v":""},null,{"$f":"IF($I$21=\"\",\"\",RANK(AU62,($AU$6:$AU$85),0))","v":""},{"$f":"IF('Team Data'!B75=\"\",\"\",'Team Data'!B75)","v":""},null,{"$f":"IF($L$21=\"\",\"\",RANK(AU82,($AU$6:$AU$85),0))","v":""},null,null,null,"16th",{"$f":"$E$6","v":""},{"$f":"$F$6","v":0},{"$f":"$R$243","v":""},{"$f":"$S$243","v":0},{"$f":"$S$244","v":0},{"$f":"$S$245","v":0},null,null,{"$f":"$H$110","v":0},{"$f":"$I$110","v":0},null,null,null,null,{"$f":"$K$120","v":0},{"$f":"$L$120","v":0},null,null,null,null,null,null,null,null,null,null,null,null,"",0,null,{"$f":"AT$69","v":""},{"$f":"AU$69","v":0},""]
[null,{"$f":"IF('Team Data'!B76=\"\",\"\",'Team Data'!B76)","v":""},null,{"$f":"IF($C$22=\"\",\"\",RANK(AU23,($AU$6:$AU$85),0))","v":""},{"$f":"IF('Team Data'!B77=\"\",\"\",'Team Data'!B77)","v":""},null,{"$f":"IF($F$22=\"\",\"\",RANK(AU43,($AU$6:$AU$85),0))","v":""},{"$f":"IF('Team Data'!B78=\"\",\"\",'Team Data'!B78)","v":""},null,{"$f":"IF($I$22=\"\",\"\",RANK(AU63,($AU$6:$AU$85),0))","v":""},{"$f":"IF('Team Data'!B79=\"\",\"\",'Team Data'!B79)","v":""},null,{"$f":"IF($L$22=\"\",\"\",RANK(AU83,($AU$6:$AU$85),0))","v":""},null,null,null,"17th",{"$f":"$B$56","v":""},{"$f":"$C$56","v":0},{"$f":"$R$189","v":""},{"$f":"$S$189","v":0},{"$f":"$S$190","v":0},{"$f":"$S$191","v":0},null,null,null,null,null,null,null,null,null,null,null,null,null,null,null,null,null,null,null,null,null,null,"",0,null,{"$f":"AT$10","v":""},{"$f":"AU$10","v":0},""]
[null,{"$f":"IF('Team Data'!B80=\"\",\"\",'Team Data'!B80)","v":""},null,{"$f":"IF($C$23=\"\",\"\",RANK(AU24,($AU$6:$AU$85),0))","v":""},{"$f":"IF('Team Data'!B81=\"\",\"\",'Team Data'!B81)","v":""},null,{"$f":"IF($F$23=\"\",\"\",RANK(AU44,($AU$6:$AU$85),0))","v":""},{"$f":"IF('Team Data'!B82=\"\",\"\",'Team Data'!B82)","v":""},null,{"$f":"IF($I$23=\"\",\"\",RANK(AU64,($AU$6:$AU$85),0))","v":""},{"$f":"IF('Team Data'!B83=\"\",\"\",'Team Data'!B83)","v":""},null,{"$f":"IF($L$23=\"\",\"\",RANK(AU84,($AU$6:$AU$85),0))","v":""},null,null,null,"18th",{"$f":"$H$31","v":""},{"$f":"$I$31","v":0},{"$f":"$R$201","v":""},{"$f":"$S$201","v":0},{"$f":"$S$202","v":0},{"$f":"$S$203","v":0},null,null,null,null,null,null,null,null,null,null,null,null,null,null,null,null,null,null,null,null,null,null,"",0,null,{"$f":"AT$30","v":""},{"$f":"AU$30","v":0},""]
[null,{"$f":"IF('Team Data'!B84=\"\",\"\",'Team Data'!B84)","v":""},null,{"$f":"IF($C$24=\"\",\"\",RANK(AU25,($AU$6:$AU$85),0))","v":""},{"$f":"IF('Team Data'!B85=\"\",\"\",'Team Data'!B85)","v":""},null,{"$f":"IF($F$24=\"\",\"\",RANK(AU45,($AU$6:$AU$85),0))","v":""},{"$f":"IF('Team Data'!B86=\"\",\"\",'Team Data'!B86)","v":""},null,{"$f":"IF($I$24=\"\",\"\",RANK(AU65,($AU$6:$AU$85),0))","v":""},{"$f":"IF('Team Data'!B87=\"\",\"\",'Team Data'!B87)","v":""},null,{"$f":"IF($L$24=\"\",\"\",RANK(AU85,($AU$6:$AU$85),0))","v":""},"a",null,null,"19th",{"$f":"$H$6","v":""},{"$f":"$I$6","v":0},{"$f":"$R$219","v":""},{"$f":"$S$219","v":0},{"$f":"$S$220","v":0},{"$f":"$S$221","v":0},null,null,null,null,null,null,null,null,null,null,null,null,null,null,null,null,null,null,null,null,null,null,"",0,null,{"$f":"AT$50","v":""},{"$f":"AU$50","v":0},""]
[null,null,null,null,null,null,null,null,null,null,null,null,null,null,null,null,"20th",{"$f":"$K$31","v":""},{"$f":"$L$31","v":0},{"$f":"$R$210","v":""},{"$f":"$S$210","v":0},{"$f":"$S$211","v":0},{"$f":"$S$212","v":0},null,null,null,null,null,null,null,null,null,null,null,null,null,null,null,null,null,null,null,null,null,null,"",0,null,{"$f":"AT$70","v":""},{"$f":"AU$70","v":0},""]
[null,null,null,null,null,null,null,null,null,null,null,null,null,null,null,null,"21st",{"$f":"$K$56","v":""},{"$f":"$L$56","v":0},{"$f":"$R$180","v":""},{"$f":"$S$180","v":0},{"$f":"$S$181","v":0},{"$f":"$S$182","v":0},null,null,null,null,null,null,null,null,null,null,null,null,null,null,null,null,null,null,null,null,null,null,{"$f":"E5","v":2},{"$f":"MAX(F5,I30,C55)","v":0},null,{"$f":"AT$11","v":""},{"$f":"AU$11","v":0},""]
[null,"Round 2",null,null,null,null,null,null,null,null,null,null,null,null,null,null,"22nd",{"$f":"$K$6","v":""},{"$f":"$L$6","v":0},{"$f":"$R$198","v":""},{"$f":"$S$198","v":0},{"$f":"$S$199","v":0},{"$f":"$S$200","v":0},null,null,null,null,null,null,null,null,null,null,null,null,null,null,null,null,null,null,null,null,null,null,"",0,null,{"$f":"AT$31","v":""},{"$f":"AU$31","v":0},""]
[null,"Field A",null,null,"Field B",null,null,"Field C",null,null,"Field D",null,null,null,null,null,"23rd",{"$f":"$E$56","v":""},{"$f":"$F$56","v":0},{"$f":"$R$174","v":""},{"$f":"$S$174","v":0},{"$f":"$S$175","v":0},{"$f":"$S$176","v":0},null,null,null,null,null,null,null,null,null,null,null,null,null,null,null,null,null,null,null,null,null,null,"",0,null,{"$f":"AT$51","v":""},{"$f":"AU$51","v":0},""]
[null,"Team","Score","Rank","Team","Score","Rank","Team","Score","Rank","Team","Score","Rank",null,null,null,"24th",{"$f":"$B$31","v":""},{"$f":"$C$31","v":0},{"$f":"$R$177","v":""},{"$f":"$S$177","v":0},{"$f":"$S$178","v":0},{"$f":"$S$179","v":0},null,null,null,null,null,null,null,null,null,null,null,null,null,null,null,null,null,null,null,null,null,null,"",0,null,{"$f":"AT$71","v":""},{"$f":"AU$71","v":0},""]
[null,{"$f":"K5","v":4},null,{"$f":"IF(C30=\"\",\"\",M5)","v":""},{"$f":"B5","v":1},null,{"$f":"IF(F30=\"\",\"\",D5)","v":""},{"$f":"E5","v":2},null,{"$f":"IF(I30=\"\",\"\",G5)","v":""},{"$f":"H5","v":3},null,{"$f":"IF(L30=\"\",\"\",J5)","v":""},null,null,null,"25th",{"$f":"$B$7","v":""},{"$f":"$C$7","v":0},{"$f":"$R$183","v":""},{"$f":"$S$183","v":0},{"$f":"$S$184","v":0},{"$f":"$S$185","v":0},null,null,null,null,null,null,null,null,null,null,null,null,null,null,null,null,null,null,null,null,null,null,"",0,null,{"$f":"AT$12","v":""},{"$f":"AU$12","v":0},""]
[null,"",null,"","",null,"","",null,"","",null,"",null,null,null,"26th",{"$f":"$E$32","v":""},{"$f":"$F$32","v":0},{"$f":"$R$213","v":""},{"$f":"$S$213","v":0},{"$f":"$S$214","v":0},{"$f":"$S$215","v":0},null,null,null,null,null,null,null,null,null,null,null,null,null,null,null,null,null,null,null,null,null,null,"",0,null,{"$f":"AT$32","v":""},{"$f":"AU$32","v":0},""]
[null,"",null,"","",null,"","",null,"","",null,"",null,null,null,"27th",{"$f":"$H$57","v":""},{"$f":"$I$57","v":0},{"$f":"$R$237","v":""},{"$f":"$S$237","v":0},{"$f":"$S$238","v":0},{"$f":"$S$239","v":0},null,null,null,null,null,null,null,null,null,null,null,null,null,null,null,null,null,null,null,null,null,null,"",0,null,{"$f":"AT$52","v":""},{"$f":"AU$52","v":0},""]
[null,"",null,"","",null,"","",null,"","",null,"",null,null,null,"28th",{"$f":"$E$7","v":""},{"$f":"$F$7","v":0},{"$f":"$R$168","v":""},{"$f":"$S$168","v":0},{"$f":"$S$169","v":0},{"$f":"$S$170","v":0},null,null,null,null,null,null,null,null,null,null,null,null,null,null,null,null,null,null,null,null,null,null,"",0,null,{"$f":"AT$72","v":""},{"$f":"AU$72","v":0},""]
[null,"",null,"","",null,"","",null,"","",null,"",null,null,null,"29th",{"$f":"$H$32","v":""},{"$f":"$I$32","v":0},{"$f":"$R$240","v":""},{"$f":"$S$240","v":0},{"$f":"$S$241","v":0},{"$f":"$S$242","v":0},null,null,null,null,null,null,null,null,null,null,null,null,null,null,null,null,null,null,null,null,null,null,"",0,null,{"$f":"AT$13","v":""},{"$f":"AU$13","v":0},""]
[null,"",null,"","",null,"","",null,"","",null,"",null,null,null,"30th",{"$f":"$B$57","v":""},{"$f":"$C$57","v":0},{"$f":"$R$207","v":""},{"$f":"$S$207","v":0},{"$f":"$S$208","v":0},{"$f":"$S$209","v":0},null,null,null,null,null,null,null,null,null,null,null,null,null,null,null,null,null,null,null,null,null,null,"",0,null,{"$f":"AT$33","v":""},{"$f":"AU$33","v":0},""]
[null,"",null,"","",null,"","",null,"","",null,"",null,null,null,"31st",{"$f":"$H$7","v":""},{"$f":"$I$7","v":0},{"$f":"$R$222","v":""},{"$f":"$S$222","v":0},{"$f":"$S$223","v":0},{"$f":"$S$224","v":0},null,null,null,null,null,null,null,null,null,null,null,null,null,null,null,null,null,null,null,null,null,null,"",0,null,{"$f":"AT$53","v":""},{"$f":"AU$53","v":0},""]
[null,"",null,"","",null,"","",null,"","",null,"",null,null,null,"32nd",{"$f":"$K$32","v":""},{"$f":"$L$32","v":0},{"$f":"$R$195","v":""},{"$f":"$S$195","v":0},{"$f":"$S$196","v":0},{"$f":"$S$197","v":0},null,null,null,null,null,null,null,null,null,null,null,null,null,null,null,null,null,null,null,null,null,null,"",0,null,{"$f":"AT$73","v":""},{"$f":"AU$73","v":0},""]
[null,"",null,"","",null,"","",null,"","",null,"",null,null,null,"33rd",{"$f":"$K$57","v":""},{"$f":"$L$57","v":0},{"$f":"$R$228","v":""},{"$f":"$S$228","v":0},{"$f":"$S$229","v":0},{"$f":"$S$230","v":0},null,null,null,null,null,null,null,null,null,null,null,null,null,null,null,null,null,null,null,null,null,null,"",0,null,{"$f":"AT$14","v":""},{"$f":"AU$14","v":0},""]
[null,"",null,"","",null,"","",null,"","",null,"",null,null,null,"34th",{"$f":"$K$7","v":""},{"$f":"$L$7","v":0},{"$f":"$R$225","v":""},{"$f":"$S$225","v":0},{"$f":"$S$226","v":0},{"$f":"$S$227","v":0},null,null,null,null,null,null,null,null,null,null,null,null,null,null,null,null,null,null,null,null,null,null,"",0,null,{"$f":"AT$34","v":""},{"$f":"AU$34","v":0},""]
[null,"",null,"","",null,"","",null,"","",null,"",null,null,null,"35th",{"$f":"$E$57","v":""},{"$f":"$F$57","v":0},{"$f":"$R$231","v":""},{"$f":"$S$231","v":0},{"$f":"$S$232","v":0},{"$f":"$S$233","v":0},null,null,null,null,null,null,null,null,null,null,null,null,null,null,null,null,null,null,null,null,null,null,"",0,null,{"$f":"AT$54","v":""},{"$f":"AU$54","v":0},""]
[null,"",null,"","",null,"","",null,"","",null,"",null,null,null,"36th",{"$f":"$B$32","v":""},{"$f":"$C$32","v":0},{"$f":"$R$186","v":""},{"$f":"$S$186","v":0},{"$f":"$S$187","v":0},{"$f":"$S$188","v":0},null,null,null,null,null,null,null,null,null,null,null,null,null,null,null,null,null,null,null,null,null,null,"",0,null,{"$f":"AT$74","v":""},{"$f":"AU$74","v":0},""]
[null,"",null,"","",null,"","",null,"","",null,"",null,null,null,"37th",{"$f":"$E$37","v":""},{"$f":"$F$37","v":0},{"$f":"$R$216","v":""},{"$f":"$S$216","v":0},{"$f":"$S$217","v":0},{"$f":"$S$218","v":0},null,null,null,null,null,null,null,null,null,null,null,null,null,null,null,null,null,null,null,null,null,null,"",0,null,{"$f":"AT$15","v":""},{"$f":"AU$15","v":0},""]
[null,"",null,"","",null,"","",null,"","",null,"",null,null,null,"38th",{"$f":"$B$12","v":""},{"$f":"$C$12","v":0},{"$f":"$R$171","v":""},{"$f":"$S$171","v":0},{"$f":"$S$172","v":0},{"$f":"$S$173","v":0},null,null,null,null,null,null,null,null,null,null,null,null,null,null,null,null,null,null,null,null,null,null,"",0,null,{"$f":"AT$35","v":""},{"$f":"AU$35","v":0},""]
[null,"",null,"","",null,"","",null,"","",null,"",null,null,null,"39th",{"$f":"$H$62","v":""},{"$f":"$I$62","v":0},{"$f":"$R$234","v":""},{"$f":"$S$234","v":0},{"$f":"$S$235","v":0},{"$f":"$S$236","v":0},null,null,null,null,null,null,null,null,null,null,null,null,null,null,null,null,null,null,null,null,null,null,"",0,null,{"$f":"AT$55","v":""},{"$f":"AU$55","v":0},""]
[null,"",null,"","",null,"","",null,"","",null,"",null,null,null,"40th",{"$f":"$B$62","v":""},{"$f":"$C$62","v":0},{"$f":"$R$165","v":""},{"$f":"$S$165","v":0},{"$f":"$S$166","v":0},{"$f":"$S$167","v":0},null,null,null,null,null,null,null,null,null,null,null,null,null,null,null,null,null,null,null,null,null,null,"",0,null,{"$f":"AT$75","v":""},{"$f":"AU$75","v":0},""]
[null,"",null,"","",null,"","",null,"","",null,"",null,null,null,"41st",{"$f":"$H$37","v":""},{"$f":"$I$37","v":0},{"$f":"$R$42","v":""},{"$f":"$S$42","v":0},{"$f":"$S$43","v":0},{"$f":"$S$44","v":0},null,null,null,null,null,null,null,null,null,null,null,null,null,null,null,null,null,null,null,null,null,null,{"$f":"H5","v":3},{"$f":"MAX(I5,L30,L55)","v":0},null,{"$f":"AT$16","v":""},{"$f":"AU$16","v":0},""]
[null,"",null,"","",null,"","",null,"","",null,"",null,null,null,"42nd",{"$f":"$E$12","v":""},{"$f":"$F$12","v":0},{"$f":"$R$45","v":""},{"$f":"$S$45","v":0},{"$f":"$S$46","v":0},{"$f":"$S$47","v":0},null,null,null,null,null,null,null,null,null,null,null,null,null,null,null,null,null,null,null,null,null,null,"",0,null,{"$f":"AT$36","v":""},{"$f":"AU$36","v":0},""]
[null,"",null,"","",null,"","",null,"","",null,"",null,null,null,"43rd",{"$f":"$K$62","v":""},{"$f":"$L$62","v":0},{"$f":"$R$60","v":""},{"$f":"$S$60","v":0},{"$f":"$S$61","v":0},{"$f":"$S$62","v":0},null,null,null,null,null,null,null,null,null,null,null,null,null,null,null,null,null,null,null,null,null,null,"",0,null,{"$f":"AT$56","v":""},{"$f":"AU$56","v":0},""]
[null,"",null,"","",null,"","",null,"","",null,"","a",null,null,"44th",{"$f":"$K$37","v":""},{"$f":"$L$37","v":0},{"$f":"$R$51","v":""},{"$f":"$S$51","v":0},{"$f":"$S$52","v":0},{"$f":"$S$53","v":0},null,null,null,null,null,null,null,null,null,null,null,null,null,null,null,null,null,null,null,null,null,null,"",0,null,{"$f":"AT$76","v":""},{"$f":"AU$76","v":0},""]
[null,null,null,null,null,null,null,null,null,null,null,null,null,null,null,null,"45th",{"$f":"$H$12","v":""},{"$f":"$I$12","v":0},{"$f":"$R$48","v":""},{"$f":"$S$48","v":0},{"$f":"$S$49","v":0},{"$f":"$S$50","v":0},null,null,null,null,null,null,null,null,null,null,null,null,null,null,null,null,null,null,null,null,null,null,"",0,null,{"$f":"AT$17","v":""},{"$f":"AU$17","v":0},""]
[null,null,null,null,null,null,null,null,null,null,null,null,null,null,null,null,"46th",{"$f":"$E$62","v":""},{"$f":"$F$62","v":0},{"$f":"$R$57","v":""},{"$f":"$S$57","v":0},{"$f":"$S$58","v":0},{"$f":"$S$59","v":0},null,null,null,null,null,null,null,null,null,null,null,null,null,null,null,null,null,null,null,null,null,null,"",0,null,{"$f":"AT$37","v":""},{"$f":"AU$37","v":0},""]
[null,"Round 3",null,null,null,null,null,null,null,null,null,null,null,null,null,null,"47th",{"$f":"$K$12","v":""},{"$f":"$L$12","v":0},{"$f":"$R$54","v":""},{"$f":"$S$54","v":0},{"$f":"$S$55","v":0},{"$f":"$S$56","v":0},null,null,null,null,null,null,null,null,null,null,null,null,null,null,null,null,null,null,null,null,null,null,"",0,null,{"$f":"AT$57","v":""},{"$f":"AU$57","v":0},""]
[null,"Field A",null,null,"Field B",null,null,"Field C",null,null,"Field D",null,null,null,null,null,"48th",{"$f":"$B$37","v":""},{"$f":"$C$37","v":0},{"$f":"$R$63","v":""},{"$f":"$S$63","v":0},{"$f":"$S$64","v":0},{"$f":"$S$65","v":0},null,null,null,null,null,null,null,null,null,null,null,null,null,null,null,null,null,null,null,null,null,null,"",0,null,{"$f":"AT$77","v":""},{"$f":"AU$77","v":0},""]
[null,"Team","Score","Rank","Team","Score","Rank","Team","Score","Rank","Team","Score","Rank",null,null,null,"49th",{"$f":"$H$63","v":""},{"$f":"$I$63","v":0},{"$f":"$R$69","v":""},{"$f":"$S$69","v":0},{"$f":"$S$70","v":0},{"$f":"$S$71","v":0},null,null,null,null,null,null,null,null,null,null,null,null,null,null,null,null,null,null,null,null,null,null,"",0,null,{"$f":"AT$18","v":""},{"$f":"AU$18","v":0},""]
[null,{"$f":"H30","v":2},null,{"$f":"IF(C55=\"\",\"\",J30)","v":""},{"$f":"B30","v":4},null,{"$f":"IF(F55=\"\",\"\",D30)","v":""},{"$f":"E30","v":1},null,{"$f":"IF(I55=\"\",\"\",G30)","v":""},{"$f":"K30","v":3},null,{"$f":"IF(L55=\"\",\"\",M30)","v":""},null,null,null,"50th",{"$f":"$B$13","v":""},{"$f":"$C$13","v":0},{"$f":"$R$66","v":""},{"$f":"$S$66","v":0},{"$f":"$S$67","v":0},{"$f":"$S$68","v":0},null,null,null,null,null,null,null,null,null,null,null,null,null,null,null,null,null,null,null,null,null,null,"",0,null,{"$f":"AT$38","v":""},{"$f":"AU$38","v":0},""]
[null,"",null,"","",null,"","",null,"","",null,"",null,null,null,"51st",{"$f":"$E$38","v":""},{"$f":"$F$38","v":0},{"$f":"$R$72","v":""},{"$f":"$S$72","v":0},{"$f":"$S$73","v":0},{"$f":"$S$74","v":0},null,null,null,null,null,null,null,null,null,null,null,null,null,null,null,null,null,null,null,null,null,null,"",0,null,{"$f":"AT$58","v":""},{"$f":"AU$58","v":0},""]
[null,"",null,"","",null,"","",null,"","",null,"",null,null,null,"52nd",{"$f":"$H$38","v":""},{"$f":"$I$38","v":0},{"$f":"$R$75","v":""},{"$f":"$S$75","v":0},{"$f":"$S$76","v":0},{"$f":"$S$77","v":0},null,null,null,null,null,null,null,null,null,null,null,null,null,null,null,null,null,null,null,null,null,null,"",0,null,{"$f":"AT$78","v":""},{"$f":"AU$78","v":0},""]
[null,"",null,"","",null,"","",null,"","",null,"",null,null,null,"53rd",{"$f":"$B$63","v":""},{"$f":"$C$63","v":0},{"$f":"$R$78","v":""},{"$f":"$S$78","v":0},{"$f":"$S$79","v":0},{"$f":"$S$80","v":0},null,null,null,null,null,null,null,null,null,null,null,null,null,null,null,null,null,null,null,null,null,null,"",0,null,{"$f":"AT$19","v":""},{"$f":"AU$19","v":0},""]
[null,"",null,"","",null,"","",null,"","",null,"",null,null,null,"54th",{"$f":"$E$13","v":""},{"$f":"$F$13","v":0},{"$f":"$R$81","v":""},{"$f":"$S$81","v":0},{"$f":"$S$82","v":0},{"$f":"$S$83","v":0},null,null,null,null,null,null,null,null,null,null,null,null,null,null,null,null,null,null,null,null,null,null,"",0,null,{"$f":"AT$39","v":""},{"$f":"AU$39","v":0},""]
[null,"",null,"","",null,"","",null,"","",null,"",null,null,null,"55th",{"$f":"$K$38","v":""},{"$f":"$L$38","v":0},{"$f":"$R$84","v":""},{"$f":"$S$84","v":0},{"$f":"$S$85","v":0},{"$f":"$S$86","v":0},null,null,null,null,null,null,null,null,null,null,null,null,null,null,null,null,null,null,null,null,null,null,"",0,null,{"$f":"AT$59","v":""},{"$f":"AU$59","v":0},""]
[null,"",null,"","",null,"","",null,"","",null,"",null,null,null,"56th",{"$f":"$H$13","v":""},{"$f":"$I$13","v":0},{"$f":"$R$87","v":""},{"$f":"$S$87","v":0},{"$f":"$S$88","v":0},{"$f":"$S$89","v":0},null,null,null,null,null,null,null,null,null,null,null,null,null,null,null,null,null,null,null,null,null,null,"",0,null,{"$f":"AT$79","v":""},{"$f":"AU$79","v":0},""]
[null,"",null,"","",null,"","",null,"","",null,"",null,null,null,"57th",{"$f":"$K$63","v":""},{"$f":"$L$63","v":0},{"$f":"$R$102","v":""},{"$f":"$S$102","v":0},{"$f":"$S$103","v":0},{"$f":"$S$104","v":0},null,null,null,null,null,null,null,null,null,null,null,null,null,null,null,null,null,null,null,null,null,null,"",0,null,{"$f":"AT$20","v":""},{"$f":"AU$20","v":0},""]
[null,"",null,"","",null,"","",null,"","",null,"",null,null,null,"58th",{"$f":"$K$13","v":""},{"$f":"$L$13","v":0},{"$f":"$R$120","v":""},{"$f":"$S$120","v":0},{"$f":"$S$121","v":0},{"$f":"$S$122","v":0},null,null,null,null,null,null,null,null,null,null,null,null,null,null,null,null,null,null,null,null,null,null,"",0,null,{"$f":"AT$40","v":""},{"$f":"AU$40","v":0},""]
[null,"",null,"","",null,"","",null,"","",null,"",null,null,null,"59th",{"$f":"$E$63","v":""},{"$f":"$F$63","v":0},{"$f":"$R$105","v":""},{"$f":"$S$105","v":0},{"$f":"$S$106","v":0},{"$f":"$S$107","v":0},null,null,null,null,null,null,null,null,null,null,null,null,null,null,null,null,null,null,null,null,null,null,"",0,null,{"$f":"AT$60","v":""},{"$f":"AU$60","v":0},""]
[null,"",null,"","",null,"","",null,"","",null,"",null,null,null,"60th",{"$f":"$B$38","v":""},{"$f":"$C$38","v":0},{"$f":"$R$117","v":""},{"$f":"$S$117","v":0},{"$f":"$S$118","v":0},{"$f":"$S$119","v":0},null,null,null,null,null,null,null,null,null,null,null,null,null,null,null,null,null,null,null,null,null,null,"",0,null,{"$f":"AT$80","v":""},{"$f":"AU$80","v":0},""]
[null,"",null,"","",null,"","",null,"","",null,"",null,null,null,"61st",{"$f":"$B$14","v":""},{"$f":"$C$14","v":0},{"$f":"$R$93","v":""},{"$f":"$S$93","v":0},{"$f":"$S$94","v":0},{"$f":"$S$95","v":0},null,null,null,null,null,null,null,null,null,null,null,null,null,null,null,null,null,null,null,null,null,null,{"$f":"K5","v":4},{"$f":"MAX(L5,C30,F55)","v":0},null,{"$f":"AT$21","v":""},{"$f":"AU$21","v":0},""]
[null,"",null,"","",null,"","",null,"","",null,"",null,null,null,"62nd",{"$f":"$H$64","v":""},{"$f":"$I$64","v":0},{"$f":"$R$99","v":""},{"$f":"$S$99","v":0},{"$f":"$S$100","v":0},{"$f":"$S$101","v":0},null,null,null,null,null,null,null,null,null,null,null,null,null,null,null,null,null,null,null,null,null,null,"",0,null,{"$f":"AT$41","v":""},{"$f":"AU$41","v":0},""]
[null,"",null,"","",null,"","",null,"","",null,"",null,null,null,"63rd",{"$f":"$E$39","v":""},{"$f":"$F$39","v":0},{"$f":"$R$153","v":""},{"$f":"$S$153","v":0},{"$f":"$S$154","v":0},{"$f":"$S$155","v":0},null,null,null,null,null,null,null,null,null,null,null,null,null,null,null,null,null,null,null,null,null,null,"",0,null,{"$f":"AT$61","v":""},{"$f":"AU$61","v":0},""]
[null,"",null,"","",null,"","",null,"","",null,"",null,null,null,"64th",{"$f":"$E$14","v":""},{"$f":"$F$14","v":0},{"$f":"$R$150","v":""},{"$f":"$S$150","v":0},{"$f":"$S$151","v":0},{"$f":"$S$152","v":0},null,null,null,null,null,null,null,null,null,null,null,null,null,null,null,null,null,null,null,null,null,null,"",0,null,{"$f":"AT$81","v":""},{"$f":"AU$81","v":0},""]
[null,"",null,"","",null,"","",null,"","",null,"",null,null,null,"65th",{"$f":"$B$64","v":""},{"$f":"$C$64","v":0},{"$f":"$R$96","v":""},{"$f":"$S$96","v":0},{"$f":"$S$97","v":0},{"$f":"$S$98","v":0},null,null,null,null,null,null,null,null,null,null,null,null,null,null,null,null,null,null,null,null,null,null,"",0,null,{"$f":"AT$22","v":""},{"$f":"AU$22","v":0},""]
[null,"",null,"","",null,"","",null,"","",null,"",null,null,null,"66th",{"$f":"$H$39","v":""},{"$f":"$I$39","v":0},{"$f":"$R$111","v":""},{"$f":"$S$111","v":0},{"$f":"$S$112","v":0},{"$f":"$S$113","v":0},null,null,null,null,null,null,null,null,null,null,null,null,null,null,null,null,null,null,null,null,null,null,"",0,null,{"$f":"AT$42","v":""},{"$f":"AU$42","v":0},{"$f":"IF(AW71=\"\",\"\",1)","v":""}]
[null,"",null,"","",null,"","",null,"","",null,"",null,null,null,"67th",{"$f":"$K$64","v":""},{"$f":"$L$64","v":0},{"$f":"$R$144","v":""},{"$f":"$S$144","v":0},{"$f":"$S$145","v":0},{"$f":"$S$146","v":0},null,null,null,null,null,null,null,null,null,null,null,null,null,null,null,null,null,null,null,null,null,null,"",0,null,{"$f":"AT$62","v":""},{"$f":"AU$62","v":0},""]
[null,"",null,"","",null,"","",null,"","",null,"",null,null,null,"68th",{"$f":"$K$39","v":""},{"$f":"$L$39","v":0},{"$f":"$R$123","v":""},{"$f":"$S$123","v":0},{"$f":"$S$124","v":0},{"$f":"$S$125","v":0},null,null,null,null,null,null,null,null,null,null,null,null,null,null,null,null,null,null,null,null,null,null,"",0,null,{"$f":"AT$82","v":""},{"$f":"AU$82","v":0},""]
[null,"",null,"","",null,"","",null,"","",null,"","a",null,null,"69th",{"$f":"$H$14","v":""},{"$f":"$I$14","v":0},{"$f":"$R$90","v":""},{"$f":"$S$90","v":0},{"$f":"$S$91","v":0},{"$f":"$S$92","v":0},null,null,null,null,null,null,null,null,null,null,null,null,null,null,null,null,null,null,null,null,null,null,"",0,null,{"$f":"AT$23","v":""},{"$f":"AU$23","v":0},""]
[null,null,null,null,null,null,null,null,null,null,null,null,null,null,1,null,"70th",{"$f":"$E$64","v":""},{"$f":"$F$64","v":0},{"$f":"$R$114","v":""},{"$f":"$S$114","v":0},{"$f":"$S$115","v":0},{"$f":"$S$116","v":0},null,null,null,null,null,null,null,null,null,null,null,null,null,null,null,null,null,null,null,null,null,null,"",0,null,{"$f":"AT$43","v":""},{"$f":"AU$43","v":0},""]
[null,null,null,null,null,null,null,null,null,null,null,null,null,null,null,null,"71st",{"$f":"$B$39","v":""},{"$f":"$C$39","v":0},{"$f":"$R$129","v":""},{"$f":"$S$129","v":0},{"$f":"$S$130","v":0},{"$f":"$S$131","v":0},null,null,null,null,null,null,null,null,null,null,null,null,null,null,null,null,null,null,null,null,null,null,"",0,null,{"$f":"AT$63","v":""},{"$f":"AU$63","v":0},""]
[null,null,null,null,null,null,null,null,null,null,null,null,null,null,null,null,"72nd",{"$f":"$K$14","v":""},{"$f":"$L$14","v":0},{"$f":"$R$126","v":""},{"$f":"$S$126","v":0},{"$f":"$S$127","v":0},{"$f":"$S$128","v":0},null,null,null,null,null,null,null,null,null,null,null,null,null,null,null,null,null,null,null,null,null,null,"",0,null,{"$f":"AT$83","v":""},{"$f":"AU$83","v":0},""]
[null,null,null,null,null,null,null,null,null,null,null,null,null,null,null,null,"73rd",{"$f":"$E$40","v":""},{"$f":"$F$40","v":0},{"$f":"$R$108","v":""},{"$f":"$S$108","v":0},{"$f":"$S$109","v":0},{"$f":"$S$110","v":0},null,null,null,null,null,null,null,null,null,null,null,null,null,null,null,null,null,null,null,null,null,null,"",0,null,{"$f":"AT$24","v":""},{"$f":"AU$24","v":0},""]
[null,null,null,null,null,null,null,null,null,null,null,null,null,null,null,null,"74th",{"$f":"$B$15","v":""},{"$f":"$C$15","v":0},{"$f":"$R$141","v":""},{"$f":"$S$141","v":0},{"$f":"$S$142","v":0},{"$f":"$S$143","v":0},null,null,null,null,null,null,null,null,null,null,null,null,null,null,null,null,null,null,null,null,null,null,"",0,null,{"$f":"AT$44","v":""},{"$f":"AU$44","v":0},""]
[null,null,null,null,null,null,null,null,null,null,null,null,null,null,null,null,"75th",{"$f":"$H$65","v":""},{"$f":"$I$65","v":0},{"$f":"$R$147","v":""},{"$f":"$S$147","v":0},{"$f":"$S$148","v":0},{"$f":"$S$149","v":0},null,null,null,null,null,null,null,null,null,null,null,null,null,null,null,null,null,null,null,null,null,null,"",0,null,{"$f":"AT$64","v":""},{"$f":"AU$64","v":0},""]
[null,null,null,null,null,null,null,null,null,null,null,null,null,null,null,null,"76th",{"$f":"$E$15","v":""},{"$f":"$F$15","v":0},{"$f":"$R$135","v":""},{"$f":"$S$135","v":0},{"$f":"$S$136","v":0},{"$f":"$S$137","v":0},null,null,null,null,null,null,null,null,null,null,null,null,null,null,null,null,null,null,null,null,null,null,"",0,null,{"$f":"AT$84","v":""},{"$f":"AU$84","v":0},""]
[null,null,null,null,null,null,null,null,null,null,null,null,null,null,null,null,"77th",{"$f":"$B$65","v":""},{"$f":"$C$65","v":0},{"$f":"$R$138","v":""},{"$f":"$S$138","v":0},{"$f":"$S$139","v":0},{"$f":"$S$140","v":0},null,null,null,null,null,null,null,null,null,null,null,null,null,null,null,null,null,null,null,null,null,null,"",0,null,{"$f":"AT$25","v":""},{"$f":"AU$25","v":0},""]
[null,null,null,null,null,null,null,null,null,null,null,null,null,null,null,null,"78th",{"$f":"$H$40","v":""},{"$f":"$I$40","v":0},{"$f":"$R$159","v":""},{"$f":"$S$159","v":0},{"$f":"$S$160","v":0},{"$f":"$S$161","v":0},null,null,null,null,null,null,null,null,null,null,null,null,null,null,null,null,null,null,null,null,null,null,"",0,null,{"$f":"AT$45","v":""},{"$f":"AU$45","v":0},""]
[null,null,null,null,null,null,null,null,null,null,null,null,null,null,null,null,"79th",{"$f":"$K$65","v":""},{"$f":"$L$65","v":0},{"$f":"$R$156","v":""},{"$f":"$S$156","v":0},{"$f":"$S$157","v":0},{"$f":"$S$158","v":0},null,null,null,null,null,null,null,null,null,null,null,null,null,null,null,null,null,null,null,null,null,null,"",0,null,{"$f":"AT$65","v":""},{"$f":"AU$65","v":0},""]
[null,null,null,null,null,null,null,null,null,null,null,null,null,null,null,null,"80th",{"$f":"$K$40","v":""},{"$f":"$L$40","v":0},{"$f":"$R$132","v":""},{"$f":"$S$132","v":0},{"$f":"$S$133","v":0},{"$f":"$S$134","v":0},null,null,null,null,null,null,null,null,null,null,null,null,null,null,null,null,null,null,null,null,null,null,"",0,null,{"$f":"AT$85","v":""},{"$f":"AU$85","v":0},""]
[null,null,null,null,null,null,null,null,null,null,null,null,null,null,null,null,null,{"$f":"$H$15","v":""},{"$f":"$I$15","v":0}]
[null,null,null,null,null,null,null,null,null,null,null,null,null,null,null,null,null,{"$f":"$E$65","v":""},{"$f":"$F$65","v":0}]
[null,null,null,null,null,null,null,null,null,null,null,null,null,null,null,null,null,{"$f":"$K$15","v":""},{"$f":"$L$15","v":0}]
[null,null,null,null,null,null,null,null,null,null,null,null,null,null,null,null,null,{"$f":"$B$40","v":""},{"$f":"$C$40","v":0}]
[null,null,null,null,null,null,null,null,null,null,null,null,null,null,null,null,null,{"$f":"$H$66","v":""},{"$f":"$I$66","v":0}]
[null,null,null,null,null,null,null,null,null,null,null,null,null,null,null,null,null,{"$f":"$E$41","v":""},{"$f":"$F$41","v":0}]
[null,null,null,null,null,null,null,null,null,null,null,null,null,null,null,null,null,{"$f":"$B$16","v":""},{"$f":"$C$16","v":0}]
[null,null,null,null,null,null,null,null,null,null,null,null,null,null,null,null,null,{"$f":"$E$16","v":""},{"$f":"$F$16","v":0}]
[null,null,null,null,null,null,null,null,null,null,null,null,null,null,null,null,null,{"$f":"$H$41","v":""},{"$f":"$I$41","v":0}]
[null,null,null,null,null,null,null,null,null,null,null,null,null,null,null,null,null,{"$f":"$B$66","v":""},{"$f":"$C$66","v":0}]
[null,null,null,null,null,null,null,null,null,null,null,null,null,null,null,null,null,{"$f":"$H$16","v":""},{"$f":"$I$16","v":0}]
["(Scroll Up!)",null,null,null,null,null,null,null,null,null,null,null,null,null,null,null,null,{"$f":"$K$41","v":""},{"$f":"$L$41","v":0}]
["(Scroll Up!)",null,null,null,null,null,null,null,null,null,null,null,null,null,null,null,null,{"$f":"$K$66","v":""},{"$f":"$L$66","v":0}]
["(Scroll Up!)",null,null,null,null,null,null,null,null,null,null,null,null,null,null,null,null,{"$f":"$K$16","v":""},{"$f":"$L$16","v":0}]
["(Scroll Up!)",null,null,null,null,null,null,null,null,null,null,null,null,null,null,null,null,{"$f":"$B$41","v":""},{"$f":"$C$41","v":0}]
["(Scroll Up!)",null,null,null,null,null,null,null,null,null,null,null,null,null,null,null,null,{"$f":"$E$66","v":""},{"$f":"$F$66","v":0}]
["(Scroll Up!)",null,null,null,null,null,null,null,null,null,null,null,null,null,null,null,null,{"$f":"$E$42","v":""},{"$f":"$F$42","v":0}]
["(Scroll Up!)",null,null,null,null,null,null,null,null,null,null,null,null,null,null,null,null,{"$f":"$B$17","v":""},{"$f":"$C$17","v":0}]
["(Scroll Up!)",null,null,null,null,null,null,null,null,null,null,null,null,null,null,null,null,{"$f":"$H$67","v":""},{"$f":"$I$67","v":0}]
["(Scroll Up!)",null,null,null,null,null,null,null,null,null,null,null,null,null,null,null,null,{"$f":"$H$42","v":""},{"$f":"$I$42","v":0}]
["(Scroll Up!)",null,null,null,null,null,null,null,null,null,null,null,null,null,null,null,null,{"$f":"$B$67","v":""},{"$f":"$C$67","v":0}]
["(Scroll Up!)",null,null,null,null,null,null,null,null,null,null,null,null,null,null,null,null,{"$f":"$E$17","v":""},{"$f":"$F$17","v":0}]
["(Scroll Up!)",null,null,null,null,null,null,null,null,null,null,null,null,null,null,null,null,{"$f":"$K$42","v":""},{"$f":"$L$42","v":0}]
["(Scroll Up!)",null,null,null,null,null,null,null,null,null,null,null,null,null,null,null,null,{"$f":"$H$17","v":""},{"$f":"$I$17","v":0}]
["(Scroll Up!)",null,null,null,null,null,null,null,null,null,null,null,null,null,null,null,null,{"$f":"$K$67","v":""},{"$f":"$L$67","v":0}]
["(Scroll Up!)",null,null,null,null,null,null,null,null,null,null,null,null,null,null,null,null,{"$f":"$B$42","v":""},{"$f":"$C$42","v":0}]
["(Scroll Up!)",null,null,null,null,null,null,null,null,null,null,null,null,null,null,null,null,{"$f":"$K$17","v":""},{"$f":"$L$17","v":0}]
["(Scroll Up!)",null,null,null,null,null,null,null,null,null,null,null,null,null,null,null,null,{"$f":"$E$67","v":""},{"$f":"$F$67","v":0}]
["(Scroll Up!)",null,null,null,null,null,null,null,null,null,null,null,null,null,null,null,null,{"$f":"$B$18","v":""},{"$f":"$C$18","v":0}]
["(Scroll Up!)",null,null,null,null,null,null,null,null,null,null,null,null,null,null,null,null,{"$f":"$H$68","v":""},{"$f":"$I$68","v":0}]
["(Scroll Up!)",null,null,null,null,null,null,null,null,null,null,null,null,null,null,null,null,{"$f":"$E$43","v":""},{"$f":"$F$43","v":0}]
["(Scroll Up!)",null,null,null,null,null,null,null,null,null,null,null,null,null,null,null,null,{"$f":"$E$18","v":""},{"$f":"$F$18","v":0}]
["(Scroll Up!)",null,null,null,null,null,null,null,null,null,null,null,null,null,null,null,null,{"$f":"$H$43","v":""},{"$f":"$I$43","v":0}]
["(Scroll Up!)",null,null,null,null,null,null,null,null,null,null,null,null,null,null,null,null,{"$f":"$B$68","v":""},{"$f":"$C$68","v":0}]
["(Scroll Up!)",null,null,null,null,null,null,null,null,null,null,null,null,null,null,null,null,{"$f":"$K$68","v":""},{"$f":"$L$68","v":0}]
["(Scroll Up!)",null,null,null,null,null,null,null,null,null,null,null,null,null,null,null,null,{"$f":"$H$18","v":""},{"$f":"$I$18","v":0}]
["(Scroll Up!)",null,null,null,null,null,null,null,null,null,null,null,null,null,null,null,null,{"$f":"$K$43","v":""},{"$f":"$L$43","v":0}]
["(Scroll Up!)",null,null,null,null,null,null,null,null,null,null,null,null,null,null,null,null,{"$f":"$K$18","v":""},{"$f":"$L$18","v":0}]
["(Scroll Up!)",null,null,null,null,null,null,null,null,null,null,null,null,null,null,null,null,{"$f":"$B$43","v":""},{"$f":"$C$43","v":0}]
["(Scroll Up!)",null,null,null,null,null,null,null,null,null,null,null,null,null,null,null,null,{"$f":"$E$68","v":""},{"$f":"$F$68","v":0}]
["(Scroll Up!)",null,null,null,null,null,null,null,null,null,null,null,null,null,null,null,null,{"$f":"$H$69","v":""},{"$f":"$I$69","v":0}]
["(Scroll Up!)",null,null,null,null,null,null,null,null,null,null,null,null,null,null,null,null,{"$f":"$B$19","v":""},{"$f":"$C$19","v":0}]
["(Scroll Up!)",null,null,null,null,null,null,null,null,null,null,null,null,null,null,null,null,{"$f":"$E$44","v":""},{"$f":"$F$44","v":0}]
["(Scroll Up!)",null,null,null,null,null,null,null,null,null,null,null,null,null,null,null,null,{"$f":"$B$69","v":""},{"$f":"$C$69","v":0}]
["(Scroll Up!)",null,null,null,null,null,null,null,null,null,null,null,null,null,null,null,null,{"$f":"$H$44","v":""},{"$f":"$I$44","v":0}]
["(Scroll Up!)",null,null,null,null,null,null,null,null,null,null,null,null,null,null,null,null,{"$f":"$E$19","v":""},{"$f":"$F$19","v":0}]
["(Scroll Up!)",null,null,null,null,null,null,null,null,null,null,null,null,null,null,null,null,{"$f":"$K$44","v":""},{"$f":"$L$44","v":0}]
["(Scroll Up!)",null,null,null,null,null,null,null,null,null,null,null,null,null,null,null,null,{"$f":"$K$69","v":""},{"$f":"$L$69","v":0}]
["(Scroll Up!)",null,null,null,null,null,null,null,null,null,null,null,null,null,null,null,null,{"$f":"$H$19","v":""},{"$f":"$I$19","v":0}]
["(Scroll Up!)",null,null,null,null,null,null,null,null,null,null,null,null,null,null,null,null,{"$f":"$B$44","v":""},{"$f":"$C$44","v":0}]
["(Scroll Up!)",null,null,null,null,null,null,null,null,null,null,null,null,null,null,null,null,{"$f":"$K$19","v":""},{"$f":"$L$19","v":0}]
["(Scroll Up!)",null,null,null,null,null,null,null,null,null,null,null,null,null,null,null,null,{"$f":"$E$69","v":""},{"$f":"$F$69","v":0}]
["(Scroll Up!)",null,null,null,null,null,null,null,null,null,null,null,null,null,null,null,null,{"$f":"$H$70","v":""},{"$f":"$I$70","v":0}]
["(Scroll Up!)",null,null,null,null,null,null,null,null,null,null,null,null,null,null,null,null,{"$f":"$E$45","v":""},{"$f":"$F$45","v":0}]
["(Scroll Up!)",null,null,null,null,null,null,null,null,null,null,null,null,null,null,null,null,{"$f":"$B$20","v":""},{"$f":"$C$20","v":0}]
["(Scroll Up!)",null,null,null,null,null,null,null,null,null,null,null,null,null,null,null,null,{"$f":"$B$70","v":""},{"$f":"$C$70","v":0}]
["(Scroll Up!)",null,null,null,null,null,null,null,null,null,null,null,null,null,null,null,null,{"$f":"$E$20","v":""},{"$f":"$F$20","v":0}]
["(Scroll Up!)",null,null,null,null,null,null,null,null,null,null,null,null,null,null,null,null,{"$f":"$H$45","v":""},{"$f":"$I$45","v":0}]
["(Scroll Up!)",null,null,null,null,null,null,null,null,null,null,null,null,null,null,null,null,{"$f":"$K$45","v":""},{"$f":"$L$45","v":0}]
["(Scroll Up!)",null,null,null,null,null,null,null,null,null,null,null,null,null,null,null,null,{"$f":"$H$20","v":""},{"$f":"$I$20","v":0}]
["(Scroll Up!)",null,null,null,null,null,null,null,null,null,null,null,null,null,null,null,null,{"$f":"$K$70","v":""},{"$f":"$L$70","v":0}]
["(Scroll Up!)",null,null,null,null,null,null,null,null,null,null,null,null,null,null,null,null,{"$f":"$B$45","v":""},{"$f":"$C$45","v":0}]
["(Scroll Up!)",null,null,null,null,null,null,null,null,null,null,null,null,null,null,null,null,{"$f":"$K$20","v":""},{"$f":"$L$20","v":0}]
["(Scroll Up!)",null,null,null,null,null,null,null,null,null,null,null,null,null,null,null,null,{"$f":"$E$70","v":""},{"$f":"$F$70","v":0}]
["(Scroll Up!)",null,null,null,null,null,null,null,null,null,null,null,null,null,null,null,null,{"$f":"$H$71","v":""},{"$f":"$I$71","v":0}]
["(Scroll Up!)",null,null,null,null,null,null,null,null,null,null,null,null,null,null,null,null,{"$f":"$E$46","v":""},{"$f":"$F$46","v":0}]
["(Scroll Up!)",null,null,null,null,null,null,null,null,null,null,null,null,null,null,null,null,{"$f":"$B$21","v":""},{"$f":"$C$21","v":0}]
["(Scroll Up!)",null,null,null,null,null,null,null,null,null,null,null,null,null,null,null,null,{"$f":"$H$46","v":""},{"$f":"$I$46","v":0}]
["(Scroll Up!)",null,null,null,null,null,null,null,null,null,null,null,null,null,null,null,null,{"$f":"$E$21","v":""},{"$f":"$F$21","v":0}]
["(Scroll Up!)",null,null,null,null,null,null,null,null,null,null,null,null,null,null,null,null,{"$f":"$B$71","v":""},{"$f":"$C$71","v":0}]
["(Scroll Up!)",null,null,null,null,null,null,null,null,null,null,null,null,null,null,null,null,{"$f":"$H$21","v":""},{"$f":"$I$21","v":0}]
["(Scroll Up!)",null,null,null,null,null,null,null,null,null,null,null,null,null,null,null,null,{"$f":"$K$46","v":""},{"$f":"$L$46","v":0}]
["(Scroll Up!)",null,null,null,null,null,null,null,null,null,null,null,null,null,null,null,null,{"$f":"$K$71","v":""},{"$f":"$L$71","v":0}]
["(Scroll Up!)",null,null,null,null,null,null,null,null,null,null,null,null,null,null,null,null,{"$f":"$B$46","v":""},{"$f":"$C$46","v":0}]
["(Scroll Up!)",null,null,null,null,null,null,null,null,null,null,null,null,null,null,null,null,{"$f":"$K$21","v":""},{"$f":"$L$21","v":0}]
["(Scroll Up!)",null,null,null,null,null,null,null,null,null,null,null,null,null,null,null,null,{"$f":"$E$71","v":""},{"$f":"$F$71","v":0}]
["(Scroll Up!)",null,null,null,null,null,null,null,null,null,null,null,null,null,null,null,null,{"$f":"$H$72","v":""},{"$f":"$I$72","v":0}]
["(Scroll Up!)",null,null,null,null,null,null,null,null,null,null,null,null,null,null,null,null,{"$f":"$E$47","v":""},{"$f":"$F$47","v":0}]
["(Scroll Up!)",null,null,null,null,null,null,null,null,null,null,null,null,null,null,null,null,{"$f":"$B$22","v":""},{"$f":"$C$22","v":0}]
["(Scroll Up!)",null,null,null,null,null,null,null,null,null,null,null,null,null,null,null,null,{"$f":"$H$47","v":""},{"$f":"$I$47","v":0}]
["(Scroll Up!)",null,null,null,null,null,null,null,null,null,null,null,null,null,null,null,null,{"$f":"$B$72","v":""},{"$f":"$C$72","v":0}]
["(Scroll Up!)",null,null,null,null,null,null,null,null,null,null,null,null,null,null,null,null,{"$f":"$E$22","v":""},{"$f":"$F$22","v":0}]
["(Scroll Up!)",null,null,null,null,null,null,null,null,null,null,null,null,null,null,null,null,{"$f":"$H$22","v":""},{"$f":"$I$22","v":0}]
["(Scroll Up!)",null,null,null,null,null,null,null,null,null,null,null,null,null,null,null,null,{"$f":"$K$47","v":""},{"$f":"$L$47","v":0}]
["(Scroll Up!)",null,null,null,null,null,null,null,null,null,null,null,null,null,null,null,null,{"$f":"$K$72","v":""},{"$f":"$L$72","v":0}]
["(Scroll Up!)",null,null,null,null,null,null,null,null,null,null,null,null,null,null,null,null,{"$f":"$B$47","v":""},{"$f":"$C$47","v":0}]
["(Scroll Up!)",null,null,null,null,null,null,null,null,null,null,null,null,null,null,null,null,{"$f":"$K$22","v":""},{"$f":"$L$22","v":0}]
["(Scroll Up!)",null,null,null,null,null,null,null,null,null,null,null,null,null,null,null,null,{"$f":"$E$72","v":""},{"$f":"$F$72","v":0}]
["(Scroll Up!)",null,null,null,null,null,null,null,null,null,null,null,null,null,null,null,null,{"$f":"$B$23","v":""},{"$f":"$C$23","v":0}]
["(Scroll Up!)",null,null,null,null,null,null,null,null,null,null,null,null,null,null,null,null,{"$f":"$E$48","v":""},{"$f":"$F$48","v":0}]
["(Scroll Up!)",null,null,null,null,null,null,null,null,null,null,null,null,null,null,null,null,{"$f":"$H$73","v":""},{"$f":"$I$73","v":0}]
["(Scroll Up!)",null,null,null,null,null,null,null,null,null,null,null,null,null,null,null,null,{"$f":"$B$73","v":""},{"$f":"$C$73","v":0}]
["(Scroll Up!)",null,null,null,null,null,null,null,null,null,null,null,null,null,null,null,null,{"$f":"$E$23","v":""},{"$f":"$F$23","v":0}]
["(Scroll Up!)",null,null,null,null,null,null,null,null,null,null,null,null,null,null,null,null,{"$f":"$H$48","v":""},{"$f":"$I$48","v":0}]
["(Scroll Up!)",null,null,null,null,null,null,null,null,null,null,null,null,null,null,null,null,{"$f":"$K$48","v":""},{"$f":"$L$48","v":0}]
["(Scroll Up!)",null,null,null,null,null,null,null,null,null,null,null,null,null,null,null,null,{"$f":"$H$23","v":""},{"$f":"$I$23","v":0}]
["(Scroll Up!)",null,null,null,null,null,null,null,null,null,null,null,null,null,null,null,null,{"$f":"$K$73","v":""},{"$f":"$L$73","v":0}]
["(Scroll Up!)",null,null,null,null,null,null,null,null,null,null,null,null,null,null,null,null,{"$f":"$K$23","v":""},{"$f":"$L$23","v":0}]
["(Scroll Up!)",null,null,null,null,null,null,null,null,null,null,null,null,null,null,null,null,{"$f":"$E$73","v":""},{"$f":"$F$73","v":0}]
["(Scroll Up!)",null,null,null,null,null,null,null,null,null,null,null,null,null,null,null,null,{"$f":"$B$48","v":""},{"$f":"$C$48","v":0}]
["(Scroll Up!)",null,null,null,null,null,null,null,null,null,null,null,null,null,null,null,null,{"$f":"$E$49","v":""},{"$f":"$F$49","v":0}]
["(Scroll Up!)",null,null,null,null,null,null,null,null,null,null,null,null,null,null,null,null,{"$f":"$H$74","v":""},{"$f":"$I$74","v":0}]
["(Scroll Up!)",null,null,null,null,null,null,null,null,null,null,null,null,null,null,null,null,{"$f":"$B$24","v":""},{"$f":"$C$24","v":0}]
["(Scroll Up!)",null,null,null,null,null,null,null,null,null,null,null,null,null,null,null,null,{"$f":"$E$24","v":""},{"$f":"$F$24","v":0}]
["(Scroll Up!)",null,null,null,null,null,null,null,null,null,null,null,null,null,null,null,null,{"$f":"$B$74","v":""},{"$f":"$C$74","v":0}]
["(Scroll Up!)",null,null,null,null,null,null,null,null,null,null,null,null,null,null,null,null,{"$f":"$H$49","v":""},{"$f":"$I$49","v":0}]
["(Scroll Up!)",null,null,null,null,null,null,null,null,null,null,null,null,null,null,null,null,{"$f":"$K$74","v":""},{"$f":"$L$74","v":0}]
["(Scroll Up!)",null,null,null,null,null,null,null,null,null,null,null,null,null,null,null,null,{"$f":"$H$24","v":""},{"$f":"$I$24","v":0}]
["(Scroll Up!)",null,null,null,null,null,null,null,null,null,null,null,null,null,null,null,null,{"$f":"$K$49","v":""},{"$f":"$L$49","v":0}]
["(Scroll Up!)",null,null,null,null,null,null,null,null,null,null,null,null,null,null,null,null,{"$f":"$K$24","v":""},{"$f":"$L$24","v":0}]
["(Scroll Up!)",null,null,null,null,null,null,null,null,null,null,null,null,null,null,null,null,{"$f":"$B$49","v":""},{"$f":"$C$49","v":0}]
["(Scroll Up!)",null,null,null,null,null,null,null,null,null,null,null,null,null,null,null,null,{"$f":"$E$74","v":""},{"$f":"$F$74","v":0}]
["(Scroll Up!)",null,null,null,null,null,null,null,null,null,null,null,null,null,null,null,null,{"$f":"$B$36","v":""},{"$f":"$C$36","v":0}]
["(Scroll Up!)",null,null,null,null,null,null,null,null,null,null,null,null,null,null,null,null,{"$f":"$K$11","v":""},{"$f":"$L$11","v":0}]
["(Scroll Up!)",null,null,null,null,null,null,null,null,null,null,null,null,null,null,null,null,{"$f":"$E$61","v":""},{"$f":"$F$61","v":0}]
["(Scroll Up!)",null,null,null,null,null,null,null,null,null,null,null,null,null,null,null,null,{"$f":"$H$11","v":""},{"$f":"$I$11","v":0}]
["(Scroll Up!)",null,null,null,null,null,null,null,null,null,null,null,null,null,null,null,null,{"$f":"$K$61","v":""},{"$f":"$L$61","v":0}]
["(Scroll Up!)",null,null,null,null,null,null,null,null,null,null,null,null,null,null,null,null,{"$f":"$K$36","v":""},{"$f":"$L$36","v":0}]
["(Scroll Up!)",null,null,null,null,null,null,null,null,null,null,null,null,null,null,null,null,{"$f":"$E$33","v":""},{"$f":"$F$33","v":0}]
["(Scroll Up!)",null,null,null,null,null,null,null,null,null,null,null,null,null,null,null,null,{"$f":"$B$8","v":""},{"$f":"$C$8","v":0}]
["(Scroll Up!)",null,null,null,null,null,null,null,null,null,null,null,null,null,null,null,null,{"$f":"$H$58","v":""},{"$f":"$I$58","v":0}]
["(Scroll Up!)",null,null,null,null,null,null,null,null,null,null,null,null,null,null,null,null,{"$f":"$E$8","v":""},{"$f":"$F$8","v":0}]
["(Scroll Up!)",null,null,null,null,null,null,null,null,null,null,null,null,null,null,null,null,{"$f":"$B$58","v":""},{"$f":"$C$58","v":0}]
["(Scroll Up!)",null,null,null,null,null,null,null,null,null,null,null,null,null,null,null,null,{"$f":"$H$33","v":""},{"$f":"$I$33","v":0}]
["(Scroll Up!)",null,null,null,null,null,null,null,null,null,null,null,null,null,null,null,null,{"$f":"$H$8","v":""},{"$f":"$I$8","v":0}]
["(Scroll Up!)",null,null,null,null,null,null,null,null,null,null,null,null,null,null,null,null,{"$f":"$K$58","v":""},{"$f":"$L$58","v":0}]
["(Scroll Up!)",null,null,null,null,null,null,null,null,null,null,null,null,null,null,null,null,{"$f":"$K$33","v":""},{"$f":"$L$33","v":0}]
["(Scroll Up!)",null,null,null,null,null,null,null,null,null,null,null,null,null,null,null,null,{"$f":"$B$33","v":""},{"$f":"$C$33","v":0}]
["(Scroll Up!)",null,null,null,null,null,null,null,null,null,null,null,null,null,null,null,null,{"$f":"$K$8","v":""},{"$f":"$L$8","v":0}]
["(Scroll Up!)",null,null,null,null,null,null,null,null,null,null,null,null,null,null,null,null,{"$f":"$E$58","v":""},{"$f":"$F$58","v":0}]
["(Scroll Up!)",null,null,null,null,null,null,null,null,null,null,null,null,null,null,null,null,{"$f":"$H$59","v":""},{"$f":"$I$59","v":0}]
["(Scroll Up!)",null,null,null,null,null,null,null,null,null,null,null,null,null,null,null,null,{"$f":"$B$9","v":""},{"$f":"$C$9","v":0}]
["(Scroll Up!)",null,null,null,null,null,null,null,null,null,null,null,null,null,null,null,null,{"$f":"$E$34","v":""},{"$f":"$F$34","v":0}]
["(Scroll Up!)",null,null,null,null,null,null,null,null,null,null,null,null,null,null,null,null,{"$f":"$H$34","v":""},{"$f":"$I$34","v":0}]
["(Scroll Up!)",null,null,null,null,null,null,null,null,null,null,null,null,null,null,null,null,{"$f":"$B$59","v":""},{"$f":"$C$59","v":0}]
["(Scroll Up!)",null,null,null,null,null,null,null,null,null,null,null,null,null,null,null,null,{"$f":"$E$9","v":""},{"$f":"$F$9","v":0}]
["(Scroll Up!)",null,null,null,null,null,null,null,null,null,null,null,null,null,null,null,null,{"$f":"$H$9","v":""},{"$f":"$I$9","v":0}]
["(Scroll Up!)",null,null,null,null,null,null,null,null,null,null,null,null,null,null,null,null,{"$f":"$K$34","v":""},{"$f":"$L$34","v":0}]
["(Scroll Up!)",null,null,null,null,null,null,null,null,null,null,null,null,null,null,null,null,{"$f":"$K$59","v":""},{"$f":"$L$59","v":0}]
["(Scroll Up!)",null,null,null,null,null,null,null,null,null,null,null,null,null,null,null,null,{"$f":"$K$9","v":""},{"$f":"$L$9","v":0}]
["(Scroll Up!)",null,null,null,null,null,null,null,null,null,null,null,null,null,null,null,null,{"$f":"$B$34","v":""},{"$f":"$C$34","v":0}]
["(Scroll Up!)",null,null,null,null,null,null,null,null,null,null,null,null,null,null,null,null,{"$f":"$E$59","v":""},{"$f":"$F$59","v":0}]
["(Scroll Up!)",null,null,null,null,null,null,null,null,null,null,null,null,null,null,null,null,{"$f":"$B$10","v":""},{"$f":"$C$10","v":0}]
["(Scroll Up!)",null,null,null,null,null,null,null,null,null,null,null,null,null,null,null,null,{"$f":"$E$35","v":""},{"$f":"$F$35","v":0}]
["(Scroll Up!)",null,null,null,null,null,null,null,null,null,null,null,null,null,null,null,null,{"$f":"$H$60","v":""},{"$f":"$I$60","v":0}]
["(Scroll Up!)",null,null,null,null,null,null,null,null,null,null,null,null,null,null,null,null,{"$f":"$B$60","v":""},{"$f":"$C$60","v":0}]
["(Scroll Up!)",null,null,null,null,null,null,null,null,null,null,null,null,null,null,null,null,{"$f":"$H$35","v":""},{"$f":"$I$35","v":0}]
["(Scroll Up!)",null,null,null,null,null,null,null,null,null,null,null,null,null,null,null,null,{"$f":"$E$10","v":""},{"$f":"$F$10","v":0}]
["(Scroll Up!)",null,null,null,null,null,null,null,null,null,null,null,null,null,null,null,null,{"$f":"$K$35","v":""},{"$f":"$L$35","v":0}]
["(Scroll Up!)",null,null,null,null,null,null,null,null,null,null,null,null,null,null,null,null,{"$f":"$K$60","v":""},{"$f":"$L$60","v":0}]
["(Scroll Up!)",null,null,null,null,null,null,null,null,null,null,null,null,null,null,null,null,{"$f":"$H$10","v":""},{"$f":"$I$10","v":0}]
["(Scroll Up!)",null,null,null,null,null,null,null,null,null,null,null,null,null,null,null,null,{"$f":"$K$10","v":""},{"$f":"$L$10","v":0}]
["(Scroll Up!)",null,null,null,null,null,null,null,null,null,null,null,null,null,null,null,null,{"$f":"$B$35","v":""},{"$f":"$C$35","v":0}]
["(Scroll Up!)",null,null,null,null,null,null,null,null,null,null,null,null,null,null,null,null,{"$f":"$E$60","v":""},{"$f":"$F$60","v":0}]
["(Scroll Up!)",null,null,null,null,null,null,null,null,null,null,null,null,null,null,null,null,{"$f":"$B$11","v":""},{"$f":"$C$11","v":0}]
["(Scroll Up!)",null,null,null,null,null,null,null,null,null,null,null,null,null,null,null,null,{"$f":"$H$61","v":""},{"$f":"$I$61","v":0}]
["(Scroll Up!)",null,null,null,null,null,null,null,null,null,null,null,null,null,null,null,null,{"$f":"$E$36","v":""},{"$f":"$F$36","v":0}]
["(Scroll Up!)",null,null,null,null,null,null,null,null,null,null,null,null,null,null,null,null,{"$f":"$E$11","v":""},{"$f":"$F$11","v":0}]
["(Scroll Up!)",null,null,null,null,null,null,null,null,null,null,null,null,null,null,null,null,{"$f":"$B$61","v":""},{"$f":"$C$61","v":0}]
["(Scroll Up!)",null,null,null,null,null,null,null,null,null,null,null,null,null,null,null,null,{"$f":"$H$36","v":""},{"$f":"$I$36","v":0}]
["(Scroll Up!)"]
["(Scroll Up!)"]
["(Scroll Up!)"]
["(Scroll Up!)"]
["(Scroll Up!)"]
["(Scroll Up!)"]
["(Scroll Up!)"]
["(Scroll Up!)"]
["(Scroll Up!)"]
["(Scroll Up!)"]
["(Scroll Up!)"]
["(Scroll Up!)"]
["(Scroll Up!)"]
["(Scroll Up!)"]
["(Scroll Up!)"]
["(Scroll Up!)"]
["(Scroll Up!)"]
["(Scroll Up!)"]
["(Scroll Up!)"]
["(Scroll Up!)"]
["(Scroll Up!)"]
["(Scroll Up!)"]
["(Scroll Up!)"]
["(Scroll Up!)"]
["(Scroll Up!)"]
["(Scroll Up!)"]
["(Scroll Up!)"]
["(Scroll Up!)"]
["(Scroll Up!)"]
["(Scroll Up!)"]
["(Scroll Up!)"]
["(Scroll Up!)"]
["(Scroll Up!)"]
["(Scroll Up!)"]
["(Scroll Up!)"]
["(Scroll Up!)"]
["(Scroll Up!)"]
["(Scroll Up!)"]
["(Scroll Up!)"]
["(Scroll Up!)"]
["(Scroll Up!)"]
["(Scroll Up!)"]
["(Scroll Up!)"]
["(Scroll Up!)"]
["(Scroll Up!)"]
["(Scroll Up!)"]
["(Scroll Up!)"]
["(Scroll Up!)"]
["(Scroll Up!)"]
["(Scroll Up!)"]
["(Scroll Up!)"]
["(Scroll Up!)"]
["(Scroll Up!)"]
["(Scroll Up!)"]
["(Scroll Up!)"]
["(Scroll Up!)"]
["(Scroll Up!)"]
["(Scroll Up!)"]
["(Scroll Up!)"]
["(Scroll Up!)"]
["(Scroll Up!)"]
["(Scroll Up!)"]
["(Scroll Up!)"]
["(Scroll Up!)"]
["(Scroll Up!)"]
["(Scroll Up!)"]
["(Scroll Up!)"]
["(Scroll Up!)"]
["(Scroll Up!)"]
["(Scroll Up!)"]
["(Scroll Up!)"]
["(Scroll Up!)"]
["(Scroll Up!)"]
["(Scroll Up!)"]
["(Scroll Up!)"]
["(Scroll Up!)"]
["(Scroll Up!)"]
["(Scroll Up!)"]
["(Scroll Up!)"]
["(Scroll Up!)"]
["(Scroll Up!)"]
["(Scroll Up!)"]
["(Scroll Up!)"]
["(Scroll Up!)"]
["(Scroll Up!)"]
["(Scroll Up!)"]
["(Scroll Up!)"]
["(Scroll Up!)"]
["(Scroll Up!)"]
["(Scroll Up!)"]
["(Scroll Up!)"]
["(Scroll Up!)"]
["(Scroll Up!)"]
["(Scroll Up!)"]
["(Scroll Up!)"]
["(Scroll Up!)"]
["(Scroll Up!)"]
["(Scroll Up!)"]
["(Scroll Up!)"]
["(Scroll Up!)"]
["(Scroll Up!)"]
["(Scroll Up!)"]
["(Scroll Up!)"]
["(Scroll Up!)"]
["(Scroll Up!)"]
["(Scroll Up!)"]
["(Scroll Up!)"]
["(Scroll Up!)"]
["(Scroll Up!)"]
["(Scroll Up!)"]
["(Scroll Up!)"]
["(Scroll Up!)"]
["(Scroll Up!)"]
["(Scroll Up!)"]
["(Scroll Up!)"]
["(Scroll Up!)"]
["(Scroll Up!)"]
["(Scroll Up!)"]
["(Scroll Up!)"]
["(Scroll Up!)"]
["(Scroll Up!)"]
["(Scroll Up!)"]
["(Scroll Up!)"]
["(Scroll Up!)"]
["(Scroll Up!)"]
["(Scroll Up!)"]
["(Scroll Up!)"]
["(Scroll Up!)"]
["(Scroll Up!)"]
["(Scroll Up!)"]
["(Scroll Up!)"]
["(Scroll Up!)"]
["(Scroll Up!)"]
["(Scroll Up!)"]
["(Scroll Up!)"]
["(Scroll Up!)"]
["(Scroll Up!)"]
["(Scroll Up!)"]
["(Scroll Up!)"]
["(Scroll Up!)"]
["(Scroll Up!)"]

{"sheet":"Ref Scoresheet","index":4,"n_rows":4,"n_cols":2,"rows_kept":4,"cut":false,"hidden":false,"merged":[]}
[null,"FIRST LEGO League Challenge BIOGLOW"]
[]
[null,"Printable Scoresheet"]
[null,"Click on the web link below to download and print the BIOGLOW Software Scorehseet. Printable Scorehseets can be found on the Season Resources Page under FLL Challenge > Judging and Scoring Materials."]